BEGIN:VCALENDAR
VERSION:2.0
PRODID:-//Cancer SD - ECPv6.15.20//NONSGML v1.0//EN
CALSCALE:GREGORIAN
METHOD:PUBLISH
X-WR-CALNAME:Cancer SD
X-ORIGINAL-URL:https://www.cancersd.com
X-WR-CALDESC:Events for Cancer SD
REFRESH-INTERVAL;VALUE=DURATION:PT1H
X-Robots-Tag:noindex
X-PUBLISHED-TTL:PT1H
BEGIN:VTIMEZONE
TZID:UTC
BEGIN:STANDARD
TZOFFSETFROM:+0000
TZOFFSETTO:+0000
TZNAME:UTC
DTSTART:20160101T000000
END:STANDARD
END:VTIMEZONE
BEGIN:VEVENT
DTSTART;TZID=UTC:20170411T121500
DTEND;TZID=UTC:20170411T124500
DTSTAMP:20260424T211836
CREATED:20170309T001419Z
LAST-MODIFIED:20170309T001419Z
UID:315-1491912900-1491914700@www.cancersd.com
SUMMARY:Leading Quality Improvement as a Top Performer Webinar
DESCRIPTION:SDSMA Center for Physician Resources \nLeading Quality Improvement as a Top Performer –  April 11\, 12:15-12:45 pm \nReaching a comfort level related to a change requires increased understanding and task repetition. Top performers who provide guidance and support advance quality improvement efforts and enhance productivity for the entire health care team. Objectives: 1) Evaluate the provider role in quality improvement; 2) describe methods for engaging a health care team. Presenter: Stephan Schroeder\, MD\, CMQ\, CMD\, Medical Director\, SDFMC: Great Plains Quality Innovation Network
URL:https://www.cancersd.com/event/leading-quality-improvement-as-a-top-performer-webinar/
END:VEVENT
END:VCALENDAR