BEGIN:VCALENDAR
VERSION:2.0
PRODID:-//Cancer SD - ECPv6.15.20//NONSGML v1.0//EN
CALSCALE:GREGORIAN
METHOD:PUBLISH
X-ORIGINAL-URL:https://www.cancersd.com
X-WR-CALDESC:Events for Cancer SD
REFRESH-INTERVAL;VALUE=DURATION:PT1H
X-Robots-Tag:noindex
X-PUBLISHED-TTL:PT1H
BEGIN:VTIMEZONE
TZID:America/New_York
BEGIN:DAYLIGHT
TZOFFSETFROM:-0500
TZOFFSETTO:-0400
TZNAME:EDT
DTSTART:20160313T070000
END:DAYLIGHT
BEGIN:STANDARD
TZOFFSETFROM:-0400
TZOFFSETTO:-0500
TZNAME:EST
DTSTART:20161106T060000
END:STANDARD
BEGIN:DAYLIGHT
TZOFFSETFROM:-0500
TZOFFSETTO:-0400
TZNAME:EDT
DTSTART:20170312T070000
END:DAYLIGHT
BEGIN:STANDARD
TZOFFSETFROM:-0400
TZOFFSETTO:-0500
TZNAME:EST
DTSTART:20171105T060000
END:STANDARD
BEGIN:DAYLIGHT
TZOFFSETFROM:-0500
TZOFFSETTO:-0400
TZNAME:EDT
DTSTART:20180311T070000
END:DAYLIGHT
BEGIN:STANDARD
TZOFFSETFROM:-0400
TZOFFSETTO:-0500
TZNAME:EST
DTSTART:20181104T060000
END:STANDARD
END:VTIMEZONE
BEGIN:VEVENT
DTSTART;TZID=America/New_York:20170426T110000
DTEND;TZID=America/New_York:20170426T120000
DTSTAMP:20260424T211822
CREATED:20170315T232330Z
LAST-MODIFIED:20170315T232330Z
UID:322-1493204400-1493208000@www.cancersd.com
SUMMARY:How to Get Funded Webinar (Part 4 of the Grant Writing for Community Coalitions Webinar Series)
DESCRIPTION:Grant Writing for Community Coalitions – Webinar Series \nSDSU Extension\, in collaboration with the South Dakota Department of Health and Volunteers of America Dakotas\, will present a four-part webinar series on Grant Writing for Community Coalitions April 4\, 12\, 19\, and 26 2017. The series will cover topics such as an overview of the grant writing process\, proposal and budget development\, how to identify community health project funding opportunities\, and tips on how to make your proposal stand out. Participants will have the opportunity to hear from communities who have successfully secured funding to support their projects. \nEach session is an interactive\, online learning session which will include homework and live participation. \nHow to Get Funded will feature speakers Sandra Melstad\, MPH\, SLM Consulting\, LLC; South Dakota Department of Health\, Hilary Overby\, Volunteers of America\, and Tara Shafrath\, SDSU Extension
URL:https://www.cancersd.com/event/how-to-get-funded-webinar-part-4-of-the-grant-writing-for-community-coalitions-webinar-series/
END:VEVENT
END:VCALENDAR