BEGIN:VCALENDAR
VERSION:2.0
PRODID:-//Cancer SD - ECPv6.15.20//NONSGML v1.0//EN
CALSCALE:GREGORIAN
METHOD:PUBLISH
X-WR-CALNAME:Cancer SD
X-ORIGINAL-URL:https://www.cancersd.com
X-WR-CALDESC:Events for Cancer SD
REFRESH-INTERVAL;VALUE=DURATION:PT1H
X-Robots-Tag:noindex
X-PUBLISHED-TTL:PT1H
BEGIN:VTIMEZONE
TZID:America/Chicago
BEGIN:DAYLIGHT
TZOFFSETFROM:-0600
TZOFFSETTO:-0500
TZNAME:CDT
DTSTART:20160313T080000
END:DAYLIGHT
BEGIN:STANDARD
TZOFFSETFROM:-0500
TZOFFSETTO:-0600
TZNAME:CST
DTSTART:20161106T070000
END:STANDARD
BEGIN:DAYLIGHT
TZOFFSETFROM:-0600
TZOFFSETTO:-0500
TZNAME:CDT
DTSTART:20170312T080000
END:DAYLIGHT
BEGIN:STANDARD
TZOFFSETFROM:-0500
TZOFFSETTO:-0600
TZNAME:CST
DTSTART:20171105T070000
END:STANDARD
BEGIN:DAYLIGHT
TZOFFSETFROM:-0600
TZOFFSETTO:-0500
TZNAME:CDT
DTSTART:20180311T080000
END:DAYLIGHT
BEGIN:STANDARD
TZOFFSETFROM:-0500
TZOFFSETTO:-0600
TZNAME:CST
DTSTART:20181104T070000
END:STANDARD
END:VTIMEZONE
BEGIN:VEVENT
DTSTART;TZID=America/Chicago:20170508T130000
DTEND;TZID=America/Chicago:20170508T140000
DTSTAMP:20260424T194802
CREATED:20170428T230423Z
LAST-MODIFIED:20170428T230423Z
UID:351-1494248400-1494252000@www.cancersd.com
SUMMARY:Communicators Showcase Webinar
DESCRIPTION:The National HPV Vaccination Roundtable will be hosting a communications showcase highlighting the new You’ve Got the Power to Prevent Cancer! communications package.
URL:https://www.cancersd.com/event/communicators-showcase-webinar/
END:VEVENT
END:VCALENDAR