BEGIN:VCALENDAR
VERSION:2.0
PRODID:-//Cancer SD - ECPv6.15.20//NONSGML v1.0//EN
CALSCALE:GREGORIAN
METHOD:PUBLISH
X-WR-CALNAME:Cancer SD
X-ORIGINAL-URL:https://www.cancersd.com
X-WR-CALDESC:Events for Cancer SD
REFRESH-INTERVAL;VALUE=DURATION:PT1H
X-Robots-Tag:noindex
X-PUBLISHED-TTL:PT1H
BEGIN:VTIMEZONE
TZID:America/Chicago
BEGIN:DAYLIGHT
TZOFFSETFROM:-0600
TZOFFSETTO:-0500
TZNAME:CDT
DTSTART:20160313T080000
END:DAYLIGHT
BEGIN:STANDARD
TZOFFSETFROM:-0500
TZOFFSETTO:-0600
TZNAME:CST
DTSTART:20161106T070000
END:STANDARD
BEGIN:DAYLIGHT
TZOFFSETFROM:-0600
TZOFFSETTO:-0500
TZNAME:CDT
DTSTART:20170312T080000
END:DAYLIGHT
BEGIN:STANDARD
TZOFFSETFROM:-0500
TZOFFSETTO:-0600
TZNAME:CST
DTSTART:20171105T070000
END:STANDARD
BEGIN:DAYLIGHT
TZOFFSETFROM:-0600
TZOFFSETTO:-0500
TZNAME:CDT
DTSTART:20180311T080000
END:DAYLIGHT
BEGIN:STANDARD
TZOFFSETFROM:-0500
TZOFFSETTO:-0600
TZNAME:CST
DTSTART:20181104T070000
END:STANDARD
END:VTIMEZONE
BEGIN:VEVENT
DTSTART;TZID=America/Chicago:20170518T110000
DTEND;TZID=America/Chicago:20170518T123000
DTSTAMP:20260424T181855
CREATED:20170505T185814Z
LAST-MODIFIED:20170505T185814Z
UID:359-1495105200-1495110600@www.cancersd.com
SUMMARY:Increasing HPV Vaccination Webinar
DESCRIPTION:What? Increasing HPV Vaccination Webinar\, Sponsored by the Comprehensive Cancer Control National Partnership \nWhen? May 18\, 11:ooam – 12:30pm CT \nWhy? To hear about new national efforts\, resources and successes from other CCC Coalitions \nWho? All state\, tribe/tribal organization and territory/Pacific Island Jurisdiction CCC Coalitions and their HPV vaccination partners \nHow? Please register for the webinar and then add it to your calendar: Register
URL:https://www.cancersd.com/event/increasing-hpv-vaccination-webinar/
END:VEVENT
END:VCALENDAR