BEGIN:VCALENDAR
VERSION:2.0
PRODID:-//Cancer SD - ECPv6.15.20//NONSGML v1.0//EN
CALSCALE:GREGORIAN
METHOD:PUBLISH
X-ORIGINAL-URL:https://www.cancersd.com
X-WR-CALDESC:Events for Cancer SD
REFRESH-INTERVAL;VALUE=DURATION:PT1H
X-Robots-Tag:noindex
X-PUBLISHED-TTL:PT1H
BEGIN:VTIMEZONE
TZID:America/Chicago
BEGIN:DAYLIGHT
TZOFFSETFROM:-0600
TZOFFSETTO:-0500
TZNAME:CDT
DTSTART:20160313T080000
END:DAYLIGHT
BEGIN:STANDARD
TZOFFSETFROM:-0500
TZOFFSETTO:-0600
TZNAME:CST
DTSTART:20161106T070000
END:STANDARD
BEGIN:DAYLIGHT
TZOFFSETFROM:-0600
TZOFFSETTO:-0500
TZNAME:CDT
DTSTART:20170312T080000
END:DAYLIGHT
BEGIN:STANDARD
TZOFFSETFROM:-0500
TZOFFSETTO:-0600
TZNAME:CST
DTSTART:20171105T070000
END:STANDARD
BEGIN:DAYLIGHT
TZOFFSETFROM:-0600
TZOFFSETTO:-0500
TZNAME:CDT
DTSTART:20180311T080000
END:DAYLIGHT
BEGIN:STANDARD
TZOFFSETFROM:-0500
TZOFFSETTO:-0600
TZNAME:CST
DTSTART:20181104T070000
END:STANDARD
END:VTIMEZONE
BEGIN:VEVENT
DTSTART;TZID=America/Chicago:20170601T130000
DTEND;TZID=America/Chicago:20170601T143000
DTSTAMP:20260424T165727
CREATED:20170517T185723Z
LAST-MODIFIED:20170517T185851Z
UID:361-1496322000-1496327400@www.cancersd.com
SUMMARY:Promoting Physical Activity for Cancer Survivors
DESCRIPTION:The George Washington University (GW) Cancer Center invites you to join our upcoming Ask the Expert on Promoting Physical Activity for Cancer Survivors with LIVESTRONG® at the YMCA. Physical activity can help reduce the risk for certain new cancers or cancer recurrence\, and reduce the likelihood of premature death and adverse health effects of cancer treatment. However\, in 2009\, about one-third of survivors had not participated in any physical activity in the past 30 days. \nLearning Objectives: \n\nDiscuss LIVESTRONG at the YMCA\, a program that helps adult cancer survivors improve their strength and physical fitness\, diminish the severity of therapy side effects\, develop supportive relationships and improve their quality of life\, and evidence of program effectiveness.\nDescribe the benefits and outcomes of LIVESTRONG at the YMCA as told by a survivor participant.\nIdentify methods and resources to promote LIVESTRONG at the YMCA to survivors and stakeholders.\n\nRegister today
URL:https://www.cancersd.com/event/promoting-physical-activity-for-cancer-survivors/
END:VEVENT
END:VCALENDAR