BEGIN:VCALENDAR
VERSION:2.0
PRODID:-//Cancer SD - ECPv6.15.20//NONSGML v1.0//EN
CALSCALE:GREGORIAN
METHOD:PUBLISH
X-WR-CALNAME:Cancer SD
X-ORIGINAL-URL:https://www.cancersd.com
X-WR-CALDESC:Events for Cancer SD
REFRESH-INTERVAL;VALUE=DURATION:PT1H
X-Robots-Tag:noindex
X-PUBLISHED-TTL:PT1H
BEGIN:VTIMEZONE
TZID:UTC
BEGIN:STANDARD
TZOFFSETFROM:+0000
TZOFFSETTO:+0000
TZNAME:UTC
DTSTART:20160101T000000
END:STANDARD
END:VTIMEZONE
BEGIN:VEVENT
DTSTART;VALUE=DATE:20170613
DTEND;VALUE=DATE:20170614
DTSTAMP:20260424T165650
CREATED:20170519T230551Z
LAST-MODIFIED:20170519T230551Z
UID:369-1497312000-1497398399@www.cancersd.com
SUMMARY:Colon Health in Indian Country: Educate\, Screen & Prevention Cancer
DESCRIPTION:The American Indian Cancer Foundation and Great Plains Colorectal Cancer Screening Initiative will host a training “Colon Health in Indian Country: Educate\, Screen & Prevent Cancer” on Tuesday\, June 13\, 2017\, at the Best Western Ramkota Hotel in Rapid City\, SD. \nTravel scholarships are available on a first come\, first serve basis\, and will include lodging\, per diem\, and mileage. \nSee the Training Flyer and Travel Scholarship Form for more information. The deadline for registration\, travel scholarships\, and lodging is Wednesday\, May 31. \nSpace is limited so please adhere by the deadline! \nYou will be notified by email prior to the training date if you have been approved for a travel scholarship and what that will include\, so please make sure you have the correct email address and phone number on your form. Approved travel checks will be distributed on Tuesday\, June 13\, 2017\, at the registration table\, see DeAnna Swan.
URL:https://www.cancersd.com/event/colon-health-in-indian-country-educate-screen-prevention-cancer/
LOCATION:Best Western Ramkota Hotel\, 2111 N. Lacrosse Street\, Rapid City\, SD\, 57701\, United States
END:VEVENT
END:VCALENDAR