BEGIN:VCALENDAR
VERSION:2.0
PRODID:-//Cancer SD - ECPv6.15.20//NONSGML v1.0//EN
CALSCALE:GREGORIAN
METHOD:PUBLISH
X-WR-CALNAME:Cancer SD
X-ORIGINAL-URL:https://www.cancersd.com
X-WR-CALDESC:Events for Cancer SD
REFRESH-INTERVAL;VALUE=DURATION:PT1H
X-Robots-Tag:noindex
X-PUBLISHED-TTL:PT1H
BEGIN:VTIMEZONE
TZID:UTC
BEGIN:STANDARD
TZOFFSETFROM:+0000
TZOFFSETTO:+0000
TZNAME:UTC
DTSTART:20160101T000000
END:STANDARD
END:VTIMEZONE
BEGIN:VEVENT
DTSTART;TZID=UTC:20170920T120000
DTEND;TZID=UTC:20170920T130000
DTSTAMP:20260424T121232
CREATED:20170308T214009Z
LAST-MODIFIED:20170308T214121Z
UID:311-1505908800-1505912400@www.cancersd.com
SUMMARY:Survivors of Childhood Cancers: What do I need to know? (or do?) Webinar
DESCRIPTION:The More You Know..Cancer Webinar Series – Iowa Academy of Family Physicians \nThe Iowa Academy of Family Physicians is pleased to bring you this series in partnership with the American Cancer Society and supported in part by the Iowa Cancer Consortium and the Iowa Department of Public Health. The webinar is free to attend. To view more details or to register\, visit www.iaafp.org/cancer. \nPresenter: Lynne Padgett\, American Cancer Society\, Strategic Director\, Hospital Systems \n\n\n\n\n\n\n\nBriefly describe common chronic and late effects of pediatric cancer treatment.\nDescribe importance of the primary care provider.\nList 3 resources/referrals for common chronic and late effects.
URL:https://www.cancersd.com/event/survivors-of-childhood-cancers-what-do-i-need-to-know-or-do/
END:VEVENT
END:VCALENDAR