BEGIN:VCALENDAR
VERSION:2.0
PRODID:-//Cancer SD - ECPv6.15.20//NONSGML v1.0//EN
CALSCALE:GREGORIAN
METHOD:PUBLISH
X-ORIGINAL-URL:https://www.cancersd.com
X-WR-CALDESC:Events for Cancer SD
REFRESH-INTERVAL;VALUE=DURATION:PT1H
X-Robots-Tag:noindex
X-PUBLISHED-TTL:PT1H
BEGIN:VTIMEZONE
TZID:America/Chicago
BEGIN:DAYLIGHT
TZOFFSETFROM:-0600
TZOFFSETTO:-0500
TZNAME:CDT
DTSTART:20160313T080000
END:DAYLIGHT
BEGIN:STANDARD
TZOFFSETFROM:-0500
TZOFFSETTO:-0600
TZNAME:CST
DTSTART:20161106T070000
END:STANDARD
BEGIN:DAYLIGHT
TZOFFSETFROM:-0600
TZOFFSETTO:-0500
TZNAME:CDT
DTSTART:20170312T080000
END:DAYLIGHT
BEGIN:STANDARD
TZOFFSETFROM:-0500
TZOFFSETTO:-0600
TZNAME:CST
DTSTART:20171105T070000
END:STANDARD
BEGIN:DAYLIGHT
TZOFFSETFROM:-0600
TZOFFSETTO:-0500
TZNAME:CDT
DTSTART:20180311T080000
END:DAYLIGHT
BEGIN:STANDARD
TZOFFSETFROM:-0500
TZOFFSETTO:-0600
TZNAME:CST
DTSTART:20181104T070000
END:STANDARD
END:VTIMEZONE
BEGIN:VEVENT
DTSTART;TZID=America/Chicago:20170926T100000
DTEND;TZID=America/Chicago:20170926T153000
DTSTAMP:20260424T104352
CREATED:20170429T001711Z
LAST-MODIFIED:20170811T195907Z
UID:353-1506420000-1506439800@www.cancersd.com
SUMMARY:2017 SD Cancer Coalition Fall Meeting
DESCRIPTION:Join the SD Cancer Coalition for our annual meeting! The meeting will provide valuable updates on our coalition\, networking opportunities\, time for coalition task forces to develop their action plans\, an opportunity to provide input and updates on the State Cancer Plan\, and a special keynote presentation from South Dakota’s Lieutenant Governor Matt Michels! I strongly recommended anyone interested in continuing their membership with the coalition make an effort to attend. \nThe following task forces were selected for implementation in 2017-2018: Cancer Prevention\, HPV Vaccination\, Early Detection Health Equity\, and Colorectal Cancer Screening. \nThere is no fee to attend this event. Please click the link below to register. \nView the Draft Agenda \nhttp://events.constantcontact.com/register/event?llr=kazhw8hab&oeidk=a07ee533sq557bebc8d \n 
URL:https://www.cancersd.com/event/2017-sd-cancer-coalition-fall-meeting/
LOCATION:Highland Conference Center\, 2000 Highland Way\, Mitchell\, SD\, 57301\, United States
END:VEVENT
END:VCALENDAR