BEGIN:VCALENDAR
VERSION:2.0
PRODID:-//Cancer SD - ECPv6.15.20//NONSGML v1.0//EN
CALSCALE:GREGORIAN
METHOD:PUBLISH
X-WR-CALNAME:Cancer SD
X-ORIGINAL-URL:https://www.cancersd.com
X-WR-CALDESC:Events for Cancer SD
REFRESH-INTERVAL;VALUE=DURATION:PT1H
X-Robots-Tag:noindex
X-PUBLISHED-TTL:PT1H
BEGIN:VTIMEZONE
TZID:UTC
BEGIN:STANDARD
TZOFFSETFROM:+0000
TZOFFSETTO:+0000
TZNAME:UTC
DTSTART:20160101T000000
END:STANDARD
END:VTIMEZONE
BEGIN:VEVENT
DTSTART;TZID=UTC:20171108T120000
DTEND;TZID=UTC:20171108T130000
DTSTAMP:20260424T091514
CREATED:20170308T214104Z
LAST-MODIFIED:20170308T214104Z
UID:312-1510142400-1510146000@www.cancersd.com
SUMMARY:Ovarian Cancer Webinar
DESCRIPTION:The More You Know..Cancer Webinar Series – Iowa Academy of Family Physicians \nThe Iowa Academy of Family Physicians is pleased to bring you this series in partnership with the American Cancer Society and supported in part by the Iowa Cancer Consortium and the Iowa Department of Public Health. The webinar is free to attend. To view more details or to register\, visit www.iaafp.org/cancer. \nPresenter: Debbie Saslow\, American Cancer Society\, Senior Director of HPV Related and Women’s Cancers \n\n\n\n\n\n\n\nUnderstand basic facts about ovarian cancer\, including disease burden\, risk factors\, and symptoms.\nBe able to identify patients who may be at high risk for ovarian cancer.\nUnderstand the challenges related to developing an ovarian cancer screening test.\nBecome familiar with the findings of the two largest screening trials\, and the implications for screening average risk women.
URL:https://www.cancersd.com/event/ovarian-cancer-webinar/
END:VEVENT
END:VCALENDAR