BEGIN:VCALENDAR
VERSION:2.0
PRODID:-//Cancer SD - ECPv6.15.20//NONSGML v1.0//EN
CALSCALE:GREGORIAN
METHOD:PUBLISH
X-WR-CALNAME:Cancer SD
X-ORIGINAL-URL:https://www.cancersd.com
X-WR-CALDESC:Events for Cancer SD
REFRESH-INTERVAL;VALUE=DURATION:PT1H
X-Robots-Tag:noindex
X-PUBLISHED-TTL:PT1H
BEGIN:VTIMEZONE
TZID:UTC
BEGIN:STANDARD
TZOFFSETFROM:+0000
TZOFFSETTO:+0000
TZNAME:UTC
DTSTART:20170101T000000
END:STANDARD
END:VTIMEZONE
BEGIN:VEVENT
DTSTART;VALUE=DATE:20180307
DTEND;VALUE=DATE:20180308
DTSTAMP:20260423T235907
CREATED:20171121T034304Z
LAST-MODIFIED:20171121T034304Z
UID:499-1520380800-1520467199@www.cancersd.com
SUMMARY:Spring Tobacco Control Institute
DESCRIPTION:Save the Date for the Spring Tobacco Control Institute in Mitchell\, SD on March 7\, 2018! \nWho should be there? \nTobacco Control Program Grantees\, Coalition Members\, Prevention Specialists\,\nSchool Administrators\, Counselors\, Educators\, Post-Secondary Representatives\,\nHealthcare Professionals\, Human Resource Specialists\, Non-Profit Organizations\nand Interested Adults. \nScholarship assistance will be available on a first come\, first serve basis\nto cover the cost of attending this meeting. \nFor more information\, Please contact the NE Region Tobacco Prevention Coordinator\, Roshal Rossman\, at (605) 878-0361 or rrossman@midco.net \nWatch the BeFreeSD.com website for details.
URL:https://www.cancersd.com/event/spring-tobacco-control-institute-2/
LOCATION:Highland Conference Center\, 2000 Highland Way\, Mitchell\, SD\, 57301\, United States
END:VEVENT
END:VCALENDAR