BEGIN:VCALENDAR
VERSION:2.0
PRODID:-//Cancer SD - ECPv6.15.20//NONSGML v1.0//EN
CALSCALE:GREGORIAN
METHOD:PUBLISH
X-ORIGINAL-URL:https://www.cancersd.com
X-WR-CALDESC:Events for Cancer SD
REFRESH-INTERVAL;VALUE=DURATION:PT1H
X-Robots-Tag:noindex
X-PUBLISHED-TTL:PT1H
BEGIN:VTIMEZONE
TZID:America/New_York
BEGIN:DAYLIGHT
TZOFFSETFROM:-0500
TZOFFSETTO:-0400
TZNAME:EDT
DTSTART:20170312T070000
END:DAYLIGHT
BEGIN:STANDARD
TZOFFSETFROM:-0400
TZOFFSETTO:-0500
TZNAME:EST
DTSTART:20171105T060000
END:STANDARD
BEGIN:DAYLIGHT
TZOFFSETFROM:-0500
TZOFFSETTO:-0400
TZNAME:EDT
DTSTART:20180311T070000
END:DAYLIGHT
BEGIN:STANDARD
TZOFFSETFROM:-0400
TZOFFSETTO:-0500
TZNAME:EST
DTSTART:20181104T060000
END:STANDARD
BEGIN:DAYLIGHT
TZOFFSETFROM:-0500
TZOFFSETTO:-0400
TZNAME:EDT
DTSTART:20190310T070000
END:DAYLIGHT
BEGIN:STANDARD
TZOFFSETFROM:-0400
TZOFFSETTO:-0500
TZNAME:EST
DTSTART:20191103T060000
END:STANDARD
END:VTIMEZONE
BEGIN:VEVENT
DTSTART;TZID=America/New_York:20180912T120000
DTEND;TZID=America/New_York:20180912T130000
DTSTAMP:20260423T140659
CREATED:20180820T225014Z
LAST-MODIFIED:20180820T225014Z
UID:727-1536753600-1536757200@www.cancersd.com
SUMMARY:Advance Directives\, Medical Orders and Something in Between; a Legal Analysis of MOST under South Dakota Law
DESCRIPTION:Mark your calendars for the next LifeCircle South Dakota quarterly conference call titled “Advance Directives\, Medical Orders and Something in Between; a Legal Analysis of MOST under South Dakota Law” which will be held on Wednesday\, September 12 at 12:00 pm central.  Cameo C. Anders MA(c)\, JD will be presenting.  You can register online at LifeCircle South Dakota. \n*A phone number and passcode will be sent the day before the call\, along with a copy of the presentation.
URL:https://www.cancersd.com/event/advance-directives-medical-orders-and-something-in-between-a-legal-analysis-of-most-under-south-dakota-law/
END:VEVENT
END:VCALENDAR