BEGIN:VCALENDAR
VERSION:2.0
PRODID:-//Cancer SD - ECPv6.15.20//NONSGML v1.0//EN
CALSCALE:GREGORIAN
METHOD:PUBLISH
X-WR-CALNAME:Cancer SD
X-ORIGINAL-URL:https://www.cancersd.com
X-WR-CALDESC:Events for Cancer SD
REFRESH-INTERVAL;VALUE=DURATION:PT1H
X-Robots-Tag:noindex
X-PUBLISHED-TTL:PT1H
BEGIN:VTIMEZONE
TZID:UTC
BEGIN:STANDARD
TZOFFSETFROM:+0000
TZOFFSETTO:+0000
TZNAME:UTC
DTSTART:20170101T000000
END:STANDARD
END:VTIMEZONE
BEGIN:VEVENT
DTSTART;TZID=UTC:20180926T100000
DTEND;TZID=UTC:20180926T160000
DTSTAMP:20260423T140620
CREATED:20180622T183913Z
LAST-MODIFIED:20180809T235539Z
UID:704-1537956000-1537977600@www.cancersd.com
SUMMARY:SD Cancer Coalition Fall Meeting
DESCRIPTION:Join the SD Cancer Coalition for our annual Fall Meeting! Opportunities to network\, develop task force action plans\, and hear engaging presentations and outcomes of 2018 efforts will be available. Registration is free. We look forward to seeing you! \nPlease click on the link below to register. \nView Draft Agenda \nRegister Now!\nThe following Task Forces have been selected for implementation in 2018-2019: \n\nIncrease HPV Vaccination Rates (Priority 6)\nEarly Detection Health Equity (Priorities 7-9)\nPromote Patient-Centered Care that Enhances Quality of Life for All Cancer Survivors (Priority 13)\n\nIf you are unable to attend the Fall Meeting\, please sign up for a Task Force using the following link: https://www.surveymonkey.com/r/CG7K5K9. \nNote: If you are attending the Fall Meeting\, you do not need to complete the link above. \nNew This Year!\nThe Cancer Coalition is accepting proposals for a poster session during the 2018 Fall Meeting. If you have a project you’d like to share with attendees that addresses one of the goals of the SD Comprehensive Cancer Control State Plan\, please submit your poster abstract by Friday\, August 31 at 5pm CT. Specifications will be provided if your poster is selected.
URL:https://www.cancersd.com/event/sd-cancer-coalition-fall-meeting/
LOCATION:Highland Conference Center\, 2000 Highland Way\, Mitchell\, SD\, 57301\, United States
END:VEVENT
END:VCALENDAR