BEGIN:VCALENDAR
VERSION:2.0
PRODID:-//Cancer SD - ECPv6.15.20//NONSGML v1.0//EN
CALSCALE:GREGORIAN
METHOD:PUBLISH
X-ORIGINAL-URL:https://www.cancersd.com
X-WR-CALDESC:Events for Cancer SD
REFRESH-INTERVAL;VALUE=DURATION:PT1H
X-Robots-Tag:noindex
X-PUBLISHED-TTL:PT1H
BEGIN:VTIMEZONE
TZID:America/Chicago
BEGIN:DAYLIGHT
TZOFFSETFROM:-0600
TZOFFSETTO:-0500
TZNAME:CDT
DTSTART:20170312T080000
END:DAYLIGHT
BEGIN:STANDARD
TZOFFSETFROM:-0500
TZOFFSETTO:-0600
TZNAME:CST
DTSTART:20171105T070000
END:STANDARD
BEGIN:DAYLIGHT
TZOFFSETFROM:-0600
TZOFFSETTO:-0500
TZNAME:CDT
DTSTART:20180311T080000
END:DAYLIGHT
BEGIN:STANDARD
TZOFFSETFROM:-0500
TZOFFSETTO:-0600
TZNAME:CST
DTSTART:20181104T070000
END:STANDARD
BEGIN:DAYLIGHT
TZOFFSETFROM:-0600
TZOFFSETTO:-0500
TZNAME:CDT
DTSTART:20190310T080000
END:DAYLIGHT
BEGIN:STANDARD
TZOFFSETFROM:-0500
TZOFFSETTO:-0600
TZNAME:CST
DTSTART:20191103T070000
END:STANDARD
END:VTIMEZONE
BEGIN:VEVENT
DTSTART;TZID=America/Chicago:20181029T140000
DTEND;TZID=America/Chicago:20181029T150000
DTSTAMP:20260423T110114
CREATED:20181018T135736Z
LAST-MODIFIED:20181018T135840Z
UID:775-1540821600-1540825200@www.cancersd.com
SUMMARY:HPV Vaccination Roundtable Webinar: Approved Age Expansion for Gardasil 9
DESCRIPTION:Please join us for a half-hour webinar with Dr. Debbie Saslow (ACS) and Dr. Rebecca Perkins (ACOG) who will discuss the recently approved age expansion for Gardasil 9 and implications for clinical practice.\nMonday\, October 29th \n3pm ET \nRegister today: http://acswebmeetings.adobeconnect.com/fda45/event/registration.html\n\n\n\n\n\n\n\n\n  \n\n\n\n\n\n\n\nOn October 5th the FDA approved expansion of HPV vaccination with Gardasil 9 to men and women ages 27 through 45 years. The National HPV Vaccination Roundtable will convene two experts to answer some important questions including: \n\nWhat does the FDA label expansion do and what will it mean for clinical practice?\nWhat are the next steps and timing for the Advisory Committee on Immunization Practices (ACIP) regarding potential changes to the recommended age ranges?\nWill insurance companies cover the HPV vaccine for older ages?
URL:https://www.cancersd.com/event/hpv-vaccination-roundtable-webinar-approved-age-expansion-for-gardasil-9/
END:VEVENT
END:VCALENDAR