BEGIN:VCALENDAR
VERSION:2.0
PRODID:-//Cancer SD - ECPv6.15.20//NONSGML v1.0//EN
CALSCALE:GREGORIAN
METHOD:PUBLISH
X-ORIGINAL-URL:https://www.cancersd.com
X-WR-CALDESC:Events for Cancer SD
REFRESH-INTERVAL;VALUE=DURATION:PT1H
X-Robots-Tag:noindex
X-PUBLISHED-TTL:PT1H
BEGIN:VTIMEZONE
TZID:America/Chicago
BEGIN:DAYLIGHT
TZOFFSETFROM:-0600
TZOFFSETTO:-0500
TZNAME:CDT
DTSTART:20170312T080000
END:DAYLIGHT
BEGIN:STANDARD
TZOFFSETFROM:-0500
TZOFFSETTO:-0600
TZNAME:CST
DTSTART:20171105T070000
END:STANDARD
BEGIN:DAYLIGHT
TZOFFSETFROM:-0600
TZOFFSETTO:-0500
TZNAME:CDT
DTSTART:20180311T080000
END:DAYLIGHT
BEGIN:STANDARD
TZOFFSETFROM:-0500
TZOFFSETTO:-0600
TZNAME:CST
DTSTART:20181104T070000
END:STANDARD
BEGIN:DAYLIGHT
TZOFFSETFROM:-0600
TZOFFSETTO:-0500
TZNAME:CDT
DTSTART:20190310T080000
END:DAYLIGHT
BEGIN:STANDARD
TZOFFSETFROM:-0500
TZOFFSETTO:-0600
TZNAME:CST
DTSTART:20191103T070000
END:STANDARD
END:VTIMEZONE
BEGIN:VEVENT
DTSTART;TZID=America/Chicago:20181219T123000
DTEND;TZID=America/Chicago:20181219T133000
DTSTAMP:20260423T092816
CREATED:20181210T172206Z
LAST-MODIFIED:20181210T172223Z
UID:788-1545222600-1545226200@www.cancersd.com
SUMMARY:All Women Count! Program Updates Webinar
DESCRIPTION:The All Women Count! Breast & Cervical Cancer Screening Program will host an informational webinar to discuss All Women Count! program updates and changes to the new forms. \nWebinar details: Mark your calendar and invite all appropriate staff to attend on Wednesday\, December 19\, 2018 at 12:30 (CST). (Slides will be posted here prior to the webinar). \nWebinar link:  https://zoom.us/j/8067059502 \nOR \nDial: 646-558-8656 Meeting ID: 806.705.9502 \nIf you are unable to attend the webinar\, a recording will be made available at http://getscreened.sd.gov/count/ .
URL:https://www.cancersd.com/event/all-women-count-program-updates/
END:VEVENT
END:VCALENDAR