BEGIN:VCALENDAR
VERSION:2.0
PRODID:-//Cancer SD - ECPv6.15.20//NONSGML v1.0//EN
CALSCALE:GREGORIAN
METHOD:PUBLISH
X-ORIGINAL-URL:https://www.cancersd.com
X-WR-CALDESC:Events for Cancer SD
REFRESH-INTERVAL;VALUE=DURATION:PT1H
X-Robots-Tag:noindex
X-PUBLISHED-TTL:PT1H
BEGIN:VTIMEZONE
TZID:America/Chicago
BEGIN:DAYLIGHT
TZOFFSETFROM:-0600
TZOFFSETTO:-0500
TZNAME:CDT
DTSTART:20180311T080000
END:DAYLIGHT
BEGIN:STANDARD
TZOFFSETFROM:-0500
TZOFFSETTO:-0600
TZNAME:CST
DTSTART:20181104T070000
END:STANDARD
BEGIN:DAYLIGHT
TZOFFSETFROM:-0600
TZOFFSETTO:-0500
TZNAME:CDT
DTSTART:20190310T080000
END:DAYLIGHT
BEGIN:STANDARD
TZOFFSETFROM:-0500
TZOFFSETTO:-0600
TZNAME:CST
DTSTART:20191103T070000
END:STANDARD
BEGIN:DAYLIGHT
TZOFFSETFROM:-0600
TZOFFSETTO:-0500
TZNAME:CDT
DTSTART:20200308T080000
END:DAYLIGHT
BEGIN:STANDARD
TZOFFSETFROM:-0500
TZOFFSETTO:-0600
TZNAME:CST
DTSTART:20201101T070000
END:STANDARD
END:VTIMEZONE
BEGIN:VEVENT
DTSTART;TZID=America/Chicago:20190326T120000
DTEND;TZID=America/Chicago:20190326T130000
DTSTAMP:20260423T042748
CREATED:20190220T185507Z
LAST-MODIFIED:20190220T185507Z
UID:834-1553601600-1553605200@www.cancersd.com
SUMMARY:Spring 2019 HPV Vaccination Update: Supporting Your Office Efforts
DESCRIPTION:Join the American Academy of Pediatrics for a webinar on March 26th at 12:00 CST to learn the latest on Human Papillomavirus (HPV) vaccination. A panel of experts in pediatric primary care\, health communication and obstetrics and gynecology will cover a range of topics including the latest trends in HPV disease prevalence and prevention\, effective HPV vaccination communication strategies all office staff can use\, evidence-based techniques for increasing HPV vaccination rates\, and answers to commonly asked questions from parents. \nRegister here
URL:https://www.cancersd.com/event/spring-2019-hpv-vaccination-update-supporting-your-office-efforts/
END:VEVENT
END:VCALENDAR