BEGIN:VCALENDAR
VERSION:2.0
PRODID:-//Cancer SD - ECPv6.15.20//NONSGML v1.0//EN
CALSCALE:GREGORIAN
METHOD:PUBLISH
X-WR-CALNAME:Cancer SD
X-ORIGINAL-URL:https://www.cancersd.com
X-WR-CALDESC:Events for Cancer SD
REFRESH-INTERVAL;VALUE=DURATION:PT1H
X-Robots-Tag:noindex
X-PUBLISHED-TTL:PT1H
BEGIN:VTIMEZONE
TZID:America/Chicago
BEGIN:DAYLIGHT
TZOFFSETFROM:-0600
TZOFFSETTO:-0500
TZNAME:CDT
DTSTART:20180311T080000
END:DAYLIGHT
BEGIN:STANDARD
TZOFFSETFROM:-0500
TZOFFSETTO:-0600
TZNAME:CST
DTSTART:20181104T070000
END:STANDARD
BEGIN:DAYLIGHT
TZOFFSETFROM:-0600
TZOFFSETTO:-0500
TZNAME:CDT
DTSTART:20190310T080000
END:DAYLIGHT
BEGIN:STANDARD
TZOFFSETFROM:-0500
TZOFFSETTO:-0600
TZNAME:CST
DTSTART:20191103T070000
END:STANDARD
BEGIN:DAYLIGHT
TZOFFSETFROM:-0600
TZOFFSETTO:-0500
TZNAME:CDT
DTSTART:20200308T080000
END:DAYLIGHT
BEGIN:STANDARD
TZOFFSETFROM:-0500
TZOFFSETTO:-0600
TZNAME:CST
DTSTART:20201101T070000
END:STANDARD
END:VTIMEZONE
BEGIN:VEVENT
DTSTART;TZID=America/Chicago:20190418T083000
DTEND;TZID=America/Chicago:20190418T160000
DTSTAMP:20260423T023003
CREATED:20190222T162821Z
LAST-MODIFIED:20190222T162821Z
UID:835-1555576200-1555603200@www.cancersd.com
SUMMARY:In-Service: Navigating Cancer: Work & Insurance
DESCRIPTION:
URL:https://www.cancersd.com/event/in-service-navigating-cancer-work-insurance/
LOCATION:Summit Events Hall\, 315 North Summit Avenue\, Sioux Falls\, SD\, 57104\, United States
END:VEVENT
BEGIN:VEVENT
DTSTART;TZID=America/Chicago:20190418T120000
DTEND;TZID=America/Chicago:20190418T130000
DTSTAMP:20260423T023003
CREATED:20190409T133505Z
LAST-MODIFIED:20190409T133505Z
UID:870-1555588800-1555592400@www.cancersd.com
SUMMARY:Crucial End-of-Life Decisions and Candid Answers from a Leading Palliative and Hospice Physician
DESCRIPTION:Edward T. Creagan\, MD\, FAAHPM\, Mayo Clinic \nThursday\, April 18\, 2019 \n12 PM – 1 PM (CST) \nWhat is the fundamental difference between hospice and palliative medicine? What are the 2 components of the advanced directive?  What is the main purpose of the family conference?  Please join us as Dr. Edward Creagan answers these questions and shares his expertise as the first Mayo Clinic consultant board certified in hospice and palliative medicine. \nFor more information and online registration click here. \nSpecial book pricing for attendees: The webinar is based on Dr. Creagan’s new book\, and you are invited to buy the book at special discount pricing.  \nOn Amazon: The eBook is available at $1.99 from now until April 30\, as a special courtesy to the group. Just search Creagan and the title Farewell: Vital End-of-Life Questions with Candid Answers at www.Amazon.com. The paperback is also available on Amazon (retail: $19.95)\, as well as the audiobook. \nFrom the publisher: If you would like one copy of the paperback edition or several (for your office staff\, patients\, library)\, you may order directly from the publisher for $14.95 plus $2.00 per book shipping to one address. Pay by credit card or PayPal. Contact publisher@Q.com or call (402) 334-2547.
URL:https://www.cancersd.com/event/crucial-end-of-life-decisions-and-candid-answers-from-a-leading-palliative-and-hospice-physician/
END:VEVENT
END:VCALENDAR