BEGIN:VCALENDAR
VERSION:2.0
PRODID:-//Cancer SD - ECPv6.15.20//NONSGML v1.0//EN
CALSCALE:GREGORIAN
METHOD:PUBLISH
X-WR-CALNAME:Cancer SD
X-ORIGINAL-URL:https://www.cancersd.com
X-WR-CALDESC:Events for Cancer SD
REFRESH-INTERVAL;VALUE=DURATION:PT1H
X-Robots-Tag:noindex
X-PUBLISHED-TTL:PT1H
BEGIN:VTIMEZONE
TZID:America/Chicago
BEGIN:DAYLIGHT
TZOFFSETFROM:-0600
TZOFFSETTO:-0500
TZNAME:CDT
DTSTART:20180311T080000
END:DAYLIGHT
BEGIN:STANDARD
TZOFFSETFROM:-0500
TZOFFSETTO:-0600
TZNAME:CST
DTSTART:20181104T070000
END:STANDARD
BEGIN:DAYLIGHT
TZOFFSETFROM:-0600
TZOFFSETTO:-0500
TZNAME:CDT
DTSTART:20190310T080000
END:DAYLIGHT
BEGIN:STANDARD
TZOFFSETFROM:-0500
TZOFFSETTO:-0600
TZNAME:CST
DTSTART:20191103T070000
END:STANDARD
BEGIN:DAYLIGHT
TZOFFSETFROM:-0600
TZOFFSETTO:-0500
TZNAME:CDT
DTSTART:20200308T080000
END:DAYLIGHT
BEGIN:STANDARD
TZOFFSETFROM:-0500
TZOFFSETTO:-0600
TZNAME:CST
DTSTART:20201101T070000
END:STANDARD
END:VTIMEZONE
BEGIN:VEVENT
DTSTART;TZID=America/Chicago:20190612T120000
DTEND;TZID=America/Chicago:20190612T123000
DTSTAMP:20260422T232417
CREATED:20190513T194005Z
LAST-MODIFIED:20190513T194005Z
UID:896-1560340800-1560342600@www.cancersd.com
SUMMARY:Chronic Disease Programs Education Opportunity
DESCRIPTION:You don’t want to miss this opportunity to learn about referring patients with chronic conditions to evidence-based programs in South Dakota.  \nThe South Dakota Department of Health and its chronic disease partners are pleased to announce a new resource for healthcare professionals. The healthcare team is vital in preventing and controlling chronic diseases. In South Dakota\, that includes referring tobacco-using patients to the SD QuitLine\, providing general health related information to patients\, ensuring screenings for various chronic diseases take place\, using health information technology to ensure overall quality of care\, and linking patients to other community health and education resources. This webinar will explain how to refer patients to these available evidence-based chronic disease programs in South Dakota: \n·     Better Choices\, Better Health SD \n·     SD QuitLine \n·     Park Rx \n·     All Women Count! \n·     National Diabetes Prevention Program \n·     Diabetes Self-Management Education and Support Program \n·     South Dakota Opioid Resource Hotline \nRegister for webinar:  \nhttps://zoom.us/meeting/register/686e7ef5e89465fe8c34be5db4a05ad8\n\n\n\n\n\n\n\nPresenters: \nKiley Hump\, MS \nAdministrator \nOffice of Chronic Disease Prevention and Health Promotion \nSouth Dakota Department of Health \n  \nKaren Cudmore \nCancer Programs Director \nSouth Dakota Department of Health \n  \nMegan Jacobson\, RDN\, LN \nNutrition Field Specialist \nBCBH SD \nSDSU Extension \n  \nRoshal Rossman\, BS \nTobacco Cessation Coordinator \nBlack Hills Special Services Cooperative \n  \nKayla Magee\, RN \nDiabetes Program Coordinator \nSouth Dakota Department of Health \n  \nNikki Prosch\, EP-C PAPHS\, EIM \nPark Prescription Project Coordinator \nSDSU Extension
URL:https://www.cancersd.com/event/chronic-disease-programs-education-opportunity/
END:VEVENT
END:VCALENDAR