BEGIN:VCALENDAR
VERSION:2.0
PRODID:-//Cancer SD - ECPv6.15.20//NONSGML v1.0//EN
CALSCALE:GREGORIAN
METHOD:PUBLISH
X-WR-CALNAME:Cancer SD
X-ORIGINAL-URL:https://www.cancersd.com
X-WR-CALDESC:Events for Cancer SD
REFRESH-INTERVAL;VALUE=DURATION:PT1H
X-Robots-Tag:noindex
X-PUBLISHED-TTL:PT1H
BEGIN:VTIMEZONE
TZID:America/Chicago
BEGIN:DAYLIGHT
TZOFFSETFROM:-0600
TZOFFSETTO:-0500
TZNAME:CDT
DTSTART:20180311T080000
END:DAYLIGHT
BEGIN:STANDARD
TZOFFSETFROM:-0500
TZOFFSETTO:-0600
TZNAME:CST
DTSTART:20181104T070000
END:STANDARD
BEGIN:DAYLIGHT
TZOFFSETFROM:-0600
TZOFFSETTO:-0500
TZNAME:CDT
DTSTART:20190310T080000
END:DAYLIGHT
BEGIN:STANDARD
TZOFFSETFROM:-0500
TZOFFSETTO:-0600
TZNAME:CST
DTSTART:20191103T070000
END:STANDARD
BEGIN:DAYLIGHT
TZOFFSETFROM:-0600
TZOFFSETTO:-0500
TZNAME:CDT
DTSTART:20200308T080000
END:DAYLIGHT
BEGIN:STANDARD
TZOFFSETFROM:-0500
TZOFFSETTO:-0600
TZNAME:CST
DTSTART:20201101T070000
END:STANDARD
END:VTIMEZONE
BEGIN:VEVENT
DTSTART;TZID=America/Chicago:20190613T140000
DTEND;TZID=America/Chicago:20190613T150000
DTSTAMP:20260422T232417
CREATED:20190522T184710Z
LAST-MODIFIED:20190522T184710Z
UID:905-1560434400-1560438000@www.cancersd.com
SUMMARY:HPV Vaccination: Tools for Training Your Staff
DESCRIPTION:HPV Vaccination: Tools for Training Your Staff \nThursday\, June 13\, 2019\, 2:00-3:00 PM CT \nRegister Now! \nLearn from Sharon Humiston\, MD\, MPH\, FAAP\, Children’s Mercy Hospital – Kansas City\, Missouri \nIn this one hour webinar\, participants will learn to develop staff training within their office and effectively communicate with families about the importance of the HPV vaccine using the Same Way\, Same Day app. Your office staff will gain HPV vaccine knowledge for the correct way to store\, handle\, and administer with the right tools they need. \n*Continuing education credits are pending for nurses*  \nThis activity has been designed to meet the educational needs of health professionals who provide and/or promote immunizations including physicians\, physician assistants\, nurse practitioners\, registered nurses\, as well as health professions students. \nFor more information\, email info@ntc.nationalahec.org.
URL:https://www.cancersd.com/event/hpv-vaccination-tools-for-training-your-staff/
END:VEVENT
END:VCALENDAR