BEGIN:VCALENDAR
VERSION:2.0
PRODID:-//Cancer SD - ECPv6.15.20//NONSGML v1.0//EN
CALSCALE:GREGORIAN
METHOD:PUBLISH
X-WR-CALNAME:Cancer SD
X-ORIGINAL-URL:https://www.cancersd.com
X-WR-CALDESC:Events for Cancer SD
REFRESH-INTERVAL;VALUE=DURATION:PT1H
X-Robots-Tag:noindex
X-PUBLISHED-TTL:PT1H
BEGIN:VTIMEZONE
TZID:America/Chicago
BEGIN:DAYLIGHT
TZOFFSETFROM:-0600
TZOFFSETTO:-0500
TZNAME:CDT
DTSTART:20180311T080000
END:DAYLIGHT
BEGIN:STANDARD
TZOFFSETFROM:-0500
TZOFFSETTO:-0600
TZNAME:CST
DTSTART:20181104T070000
END:STANDARD
BEGIN:DAYLIGHT
TZOFFSETFROM:-0600
TZOFFSETTO:-0500
TZNAME:CDT
DTSTART:20190310T080000
END:DAYLIGHT
BEGIN:STANDARD
TZOFFSETFROM:-0500
TZOFFSETTO:-0600
TZNAME:CST
DTSTART:20191103T070000
END:STANDARD
BEGIN:DAYLIGHT
TZOFFSETFROM:-0600
TZOFFSETTO:-0500
TZNAME:CDT
DTSTART:20200308T080000
END:DAYLIGHT
BEGIN:STANDARD
TZOFFSETFROM:-0500
TZOFFSETTO:-0600
TZNAME:CST
DTSTART:20201101T070000
END:STANDARD
END:VTIMEZONE
BEGIN:VEVENT
DTSTART;TZID=America/Chicago:20190918T110000
DTEND;TZID=America/Chicago:20190918T120000
DTSTAMP:20260422T181246
CREATED:20190918T132147Z
LAST-MODIFIED:20190918T132147Z
UID:947-1568804400-1568808000@www.cancersd.com
SUMMARY:Addressing Health Equity Through Evidence-Based Practice
DESCRIPTION:September 18\, 2019 | 11 a.m. – 12 p.m. \nDescription: Learn about how utilization of evidence-based public health practice can address health equity\, including multi-sector collaborations\, data collection\, and interventions that address health equity. Learn how SDSU Extension is addressing health equity through evidence-based practice. \nSpeakers: \nSandra Melstad\, MPH Public Health Consultant SLM Consulting \nLauren Pierce\, MPH\, Family & Community Health Field Specialist SDSU Extension \nRegistration: https://zoom.us/meeting/register/c9ad906d89a2226734538d7d4481ef37
URL:https://www.cancersd.com/event/addressing-health-equity-through-evidence-based-practice/
END:VEVENT
END:VCALENDAR