BEGIN:VCALENDAR
VERSION:2.0
PRODID:-//Cancer SD - ECPv6.15.20//NONSGML v1.0//EN
CALSCALE:GREGORIAN
METHOD:PUBLISH
X-WR-CALNAME:Cancer SD
X-ORIGINAL-URL:https://www.cancersd.com
X-WR-CALDESC:Events for Cancer SD
REFRESH-INTERVAL;VALUE=DURATION:PT1H
X-Robots-Tag:noindex
X-PUBLISHED-TTL:PT1H
BEGIN:VTIMEZONE
TZID:America/Chicago
BEGIN:DAYLIGHT
TZOFFSETFROM:-0600
TZOFFSETTO:-0500
TZNAME:CDT
DTSTART:20180311T080000
END:DAYLIGHT
BEGIN:STANDARD
TZOFFSETFROM:-0500
TZOFFSETTO:-0600
TZNAME:CST
DTSTART:20181104T070000
END:STANDARD
BEGIN:DAYLIGHT
TZOFFSETFROM:-0600
TZOFFSETTO:-0500
TZNAME:CDT
DTSTART:20190310T080000
END:DAYLIGHT
BEGIN:STANDARD
TZOFFSETFROM:-0500
TZOFFSETTO:-0600
TZNAME:CST
DTSTART:20191103T070000
END:STANDARD
BEGIN:DAYLIGHT
TZOFFSETFROM:-0600
TZOFFSETTO:-0500
TZNAME:CDT
DTSTART:20200308T080000
END:DAYLIGHT
BEGIN:STANDARD
TZOFFSETFROM:-0500
TZOFFSETTO:-0600
TZNAME:CST
DTSTART:20201101T070000
END:STANDARD
END:VTIMEZONE
BEGIN:VEVENT
DTSTART;TZID=America/Chicago:20191009T110000
DTEND;TZID=America/Chicago:20191009T120000
DTSTAMP:20260422T163241
CREATED:20190918T133137Z
LAST-MODIFIED:20190918T133137Z
UID:950-1570618800-1570622400@www.cancersd.com
SUMMARY:Communicating Evidence to Decision Makers
DESCRIPTION:October 9\, 2019 | 11 a.m. – 12 p.m. \nDescription: Communicating evidence to decision makers is important to inform and support public health practice. Communicating evidence regarding specific public health issues to decision makers through information that is understandable\, concise and unbiased is important to share public health knowledge\, as well as support public health policy and practice. Learn from experts whose experience includes local\, state\, and national efforts to communicate evidence to decision makers. \nSpeakers: \nDavid Benson\, South Dakota Government Relations Director American Cancer Society Cancer Action Network\, Inc. \nAlyssa Gehle\, MPH\, RD\, LN\, Health Promotion Specialist\, Sioux Falls Health Department \nJennifer Folliard\, MPH\, RDN\, Family and Community Health Field Specialist SDSU Extension \nRegistration: https://zoom.us/meeting/register/e8a8b9c2341787674ac87b605f06faf5
URL:https://www.cancersd.com/event/communicating-evidence-to-decision-makers/
END:VEVENT
END:VCALENDAR