BEGIN:VCALENDAR
VERSION:2.0
PRODID:-//Cancer SD - ECPv6.15.20//NONSGML v1.0//EN
CALSCALE:GREGORIAN
METHOD:PUBLISH
X-ORIGINAL-URL:https://www.cancersd.com
X-WR-CALDESC:Events for Cancer SD
REFRESH-INTERVAL;VALUE=DURATION:PT1H
X-Robots-Tag:noindex
X-PUBLISHED-TTL:PT1H
BEGIN:VTIMEZONE
TZID:America/Chicago
BEGIN:DAYLIGHT
TZOFFSETFROM:-0600
TZOFFSETTO:-0500
TZNAME:CDT
DTSTART:20180311T080000
END:DAYLIGHT
BEGIN:STANDARD
TZOFFSETFROM:-0500
TZOFFSETTO:-0600
TZNAME:CST
DTSTART:20181104T070000
END:STANDARD
BEGIN:DAYLIGHT
TZOFFSETFROM:-0600
TZOFFSETTO:-0500
TZNAME:CDT
DTSTART:20190310T080000
END:DAYLIGHT
BEGIN:STANDARD
TZOFFSETFROM:-0500
TZOFFSETTO:-0600
TZNAME:CST
DTSTART:20191103T070000
END:STANDARD
BEGIN:DAYLIGHT
TZOFFSETFROM:-0600
TZOFFSETTO:-0500
TZNAME:CDT
DTSTART:20200308T080000
END:DAYLIGHT
BEGIN:STANDARD
TZOFFSETFROM:-0500
TZOFFSETTO:-0600
TZNAME:CST
DTSTART:20201101T070000
END:STANDARD
END:VTIMEZONE
BEGIN:VEVENT
DTSTART;TZID=America/Chicago:20191113T110000
DTEND;TZID=America/Chicago:20191113T120000
DTSTAMP:20260422T144842
CREATED:20190918T133239Z
LAST-MODIFIED:20190918T133259Z
UID:952-1573642800-1573646400@www.cancersd.com
SUMMARY:Adapting Public Health Programs\, Policy\, or Practice to Achieve Impact
DESCRIPTION:November 13\, 2019 | 11 a.m. – 12 p.m. \nDescription: Choosing an evidence-based program\, practice\, or policy\, may require changes to increase fit or compatibility with the target population and/or community. Guidelines outline elements of evidence-based programs\, practice\, or policy that can and cannot be changed to ensure validity and reliability of the intended outcomes. Learn about these guidelines\, examples from the field\, and strategies to help ensure fit. \nSpeakers: \nSandra Melstad\, MPH Public Health Consultant SLM Consulting \nRegistration: https://zoom.us/meeting/register/9d5fb91aa79bed3bdc2040ba88984b7b
URL:https://www.cancersd.com/event/adapting-public-health-programs-policy-or-practice-to-achieve-impact/
END:VEVENT
END:VCALENDAR