BEGIN:VCALENDAR
VERSION:2.0
PRODID:-//Cancer SD - ECPv6.15.20//NONSGML v1.0//EN
CALSCALE:GREGORIAN
METHOD:PUBLISH
X-ORIGINAL-URL:https://www.cancersd.com
X-WR-CALDESC:Events for Cancer SD
REFRESH-INTERVAL;VALUE=DURATION:PT1H
X-Robots-Tag:noindex
X-PUBLISHED-TTL:PT1H
BEGIN:VTIMEZONE
TZID:America/Chicago
BEGIN:DAYLIGHT
TZOFFSETFROM:-0600
TZOFFSETTO:-0500
TZNAME:CDT
DTSTART:20190310T080000
END:DAYLIGHT
BEGIN:STANDARD
TZOFFSETFROM:-0500
TZOFFSETTO:-0600
TZNAME:CST
DTSTART:20191103T070000
END:STANDARD
BEGIN:DAYLIGHT
TZOFFSETFROM:-0600
TZOFFSETTO:-0500
TZNAME:CDT
DTSTART:20200308T080000
END:DAYLIGHT
BEGIN:STANDARD
TZOFFSETFROM:-0500
TZOFFSETTO:-0600
TZNAME:CST
DTSTART:20201101T070000
END:STANDARD
BEGIN:DAYLIGHT
TZOFFSETFROM:-0600
TZOFFSETTO:-0500
TZNAME:CDT
DTSTART:20210314T080000
END:DAYLIGHT
BEGIN:STANDARD
TZOFFSETFROM:-0500
TZOFFSETTO:-0600
TZNAME:CST
DTSTART:20211107T070000
END:STANDARD
END:VTIMEZONE
BEGIN:VEVENT
DTSTART;TZID=America/Chicago:20200109T140000
DTEND;TZID=America/Chicago:20200109T150000
DTSTAMP:20260422T113411
CREATED:20191217T191133Z
LAST-MODIFIED:20191217T191133Z
UID:1031-1578578400-1578582000@www.cancersd.com
SUMMARY:HPV and Immunizations. A Discussion about the Human Papillomavirus from an Oncologist's Perspective. What can be Prevented with this Vaccination.
DESCRIPTION:Register Now! \n\n\n\n\n\n\n\nLearn from Karen Zempolich\, MD \nGynecologic Oncologist – Monarch Women’s Cancer Center \nSalt Lake City\, UT \nIn this one hour webinar\, participants will learn about the HPV Virus from an oncologist’s perspective. Participants will be able to discuss reasons why the Human Papillomavirus vaccination can lead to prevention of HPV related cancers and describe the effects of HPV related cancer in women. Healthcare providers will understand the burden of the HPV disease and the rationale for vaccinating youth at ages 11 and 12. \n  \n*Continuing education credits are pending for nurses*  \nThis activity has been designed to meet the educational needs of health professionals who provide and/or promote immunizations including physicians\, physician assistants\, nurse practitioners\, registered nurses\, as well as health professions students. \n For more information\, email info@ntc.nationalahec.org.
URL:https://www.cancersd.com/event/hpv-and-immunizations-a-discussion-about-the-human-papillomavirus-from-an-oncologists-perspective-what-can-be-prevented-with-this-vaccination/
END:VEVENT
END:VCALENDAR