BEGIN:VCALENDAR
VERSION:2.0
PRODID:-//Cancer SD - ECPv6.15.20//NONSGML v1.0//EN
CALSCALE:GREGORIAN
METHOD:PUBLISH
X-WR-CALNAME:Cancer SD
X-ORIGINAL-URL:https://www.cancersd.com
X-WR-CALDESC:Events for Cancer SD
REFRESH-INTERVAL;VALUE=DURATION:PT1H
X-Robots-Tag:noindex
X-PUBLISHED-TTL:PT1H
BEGIN:VTIMEZONE
TZID:America/Chicago
BEGIN:DAYLIGHT
TZOFFSETFROM:-0600
TZOFFSETTO:-0500
TZNAME:CDT
DTSTART:20190310T080000
END:DAYLIGHT
BEGIN:STANDARD
TZOFFSETFROM:-0500
TZOFFSETTO:-0600
TZNAME:CST
DTSTART:20191103T070000
END:STANDARD
BEGIN:DAYLIGHT
TZOFFSETFROM:-0600
TZOFFSETTO:-0500
TZNAME:CDT
DTSTART:20200308T080000
END:DAYLIGHT
BEGIN:STANDARD
TZOFFSETFROM:-0500
TZOFFSETTO:-0600
TZNAME:CST
DTSTART:20201101T070000
END:STANDARD
BEGIN:DAYLIGHT
TZOFFSETFROM:-0600
TZOFFSETTO:-0500
TZNAME:CDT
DTSTART:20210314T080000
END:DAYLIGHT
BEGIN:STANDARD
TZOFFSETFROM:-0500
TZOFFSETTO:-0600
TZNAME:CST
DTSTART:20211107T070000
END:STANDARD
END:VTIMEZONE
BEGIN:VEVENT
DTSTART;TZID=America/Chicago:20200317T120000
DTEND;TZID=America/Chicago:20200317T130000
DTSTAMP:20260422T064211
CREATED:20200228T170814Z
LAST-MODIFIED:20200228T170814Z
UID:1122-1584446400-1584450000@www.cancersd.com
SUMMARY:Colorectal Cancer Survivorship Care Guidelines
DESCRIPTION:REGISTER \nExpert Presenter: Durado Brooke\, MD\, MPH\, Vice President\, Cancer Control Interventions American Cancer Society\, Inc. \nLocal Survivor & Caregiver Presenters: Sara & Jarod DCamp\, Love Your Buns \nPart of the Webinar Series: Cancer Survivorship Care Guidelines
URL:https://www.cancersd.com/event/colorectal-cancer-survivorship-care-guidelines/
END:VEVENT
END:VCALENDAR