BEGIN:VCALENDAR
VERSION:2.0
PRODID:-//Cancer SD - ECPv6.15.20//NONSGML v1.0//EN
CALSCALE:GREGORIAN
METHOD:PUBLISH
X-WR-CALNAME:Cancer SD
X-ORIGINAL-URL:https://www.cancersd.com
X-WR-CALDESC:Events for Cancer SD
REFRESH-INTERVAL;VALUE=DURATION:PT1H
X-Robots-Tag:noindex
X-PUBLISHED-TTL:PT1H
BEGIN:VTIMEZONE
TZID:America/Chicago
BEGIN:DAYLIGHT
TZOFFSETFROM:-0600
TZOFFSETTO:-0500
TZNAME:CDT
DTSTART:20190310T080000
END:DAYLIGHT
BEGIN:STANDARD
TZOFFSETFROM:-0500
TZOFFSETTO:-0600
TZNAME:CST
DTSTART:20191103T070000
END:STANDARD
BEGIN:DAYLIGHT
TZOFFSETFROM:-0600
TZOFFSETTO:-0500
TZNAME:CDT
DTSTART:20200308T080000
END:DAYLIGHT
BEGIN:STANDARD
TZOFFSETFROM:-0500
TZOFFSETTO:-0600
TZNAME:CST
DTSTART:20201101T070000
END:STANDARD
BEGIN:DAYLIGHT
TZOFFSETFROM:-0600
TZOFFSETTO:-0500
TZNAME:CDT
DTSTART:20210314T080000
END:DAYLIGHT
BEGIN:STANDARD
TZOFFSETFROM:-0500
TZOFFSETTO:-0600
TZNAME:CST
DTSTART:20211107T070000
END:STANDARD
END:VTIMEZONE
BEGIN:VEVENT
DTSTART;TZID=America/Chicago:20200519T120000
DTEND;TZID=America/Chicago:20200519T130000
DTSTAMP:20260422T033537
CREATED:20200228T173612Z
LAST-MODIFIED:20200312T192231Z
UID:1128-1589889600-1589893200@www.cancersd.com
SUMMARY:Prostate Cancer Survivorship Care Guidelines
DESCRIPTION:REGISTER \nExpert Presenter: Ted Skolarus\, MD\, MPH\, FACS\, Surgery Service Chief at VA Ann Arbor Healthcare System\, Associate Professor of Urology at University of Michigan\, Research Scientist at VA HSR&D Center for Clinical Management Research \nLocal survivor presenter: Phil Schreck (Sioux Falls\, SD) \nPart of the Webinar Series: Cancer Survivorship Care Guidelines
URL:https://www.cancersd.com/event/prostate-cancer-survivorship-care-guidelines/
END:VEVENT
END:VCALENDAR