BEGIN:VCALENDAR
VERSION:2.0
PRODID:-//Cancer SD - ECPv6.15.20//NONSGML v1.0//EN
CALSCALE:GREGORIAN
METHOD:PUBLISH
X-ORIGINAL-URL:https://www.cancersd.com
X-WR-CALDESC:Events for Cancer SD
REFRESH-INTERVAL;VALUE=DURATION:PT1H
X-Robots-Tag:noindex
X-PUBLISHED-TTL:PT1H
BEGIN:VTIMEZONE
TZID:America/Chicago
BEGIN:DAYLIGHT
TZOFFSETFROM:-0600
TZOFFSETTO:-0500
TZNAME:CDT
DTSTART:20190310T080000
END:DAYLIGHT
BEGIN:STANDARD
TZOFFSETFROM:-0500
TZOFFSETTO:-0600
TZNAME:CST
DTSTART:20191103T070000
END:STANDARD
BEGIN:DAYLIGHT
TZOFFSETFROM:-0600
TZOFFSETTO:-0500
TZNAME:CDT
DTSTART:20200308T080000
END:DAYLIGHT
BEGIN:STANDARD
TZOFFSETFROM:-0500
TZOFFSETTO:-0600
TZNAME:CST
DTSTART:20201101T070000
END:STANDARD
BEGIN:DAYLIGHT
TZOFFSETFROM:-0600
TZOFFSETTO:-0500
TZNAME:CDT
DTSTART:20210314T080000
END:DAYLIGHT
BEGIN:STANDARD
TZOFFSETFROM:-0500
TZOFFSETTO:-0600
TZNAME:CST
DTSTART:20211107T070000
END:STANDARD
END:VTIMEZONE
BEGIN:VEVENT
DTSTART;TZID=America/Chicago:20200527T120000
DTEND;TZID=America/Chicago:20200527T130000
DTSTAMP:20260422T033627
CREATED:20200129T215538Z
LAST-MODIFIED:20200129T215538Z
UID:1083-1590580800-1590584400@www.cancersd.com
SUMMARY:Tobacco Cessation and Lung Cancer Screening
DESCRIPTION:This is 3-part webinar series co-hosted by the American Cancer Society and the National Lung Cancer Roundtable’s State Based Initiatives Task Group. The target audience for this series are the members and partners of CCC Coalitions nationwide. \nRegister today for March 25th https://zoom.us/meeting/register/vpcvfu2gqT8q-vyoYOzAWg_W_LxygwDVtQ  \nRegister today for April 29th https://zoom.us/meeting/register/uZwofuqrrz4qqEys556N2YugoQ37kt6jQg  \nRegistration coming for May 27th  \nFeel free to contact me or e-mail Katie Bathje with any questions: Katie.bathje@cancer.org
URL:https://www.cancersd.com/event/tobacco-cessation-and-lung-cancer-screening/
END:VEVENT
END:VCALENDAR