BEGIN:VCALENDAR
VERSION:2.0
PRODID:-//Cancer SD - ECPv6.15.20//NONSGML v1.0//EN
CALSCALE:GREGORIAN
METHOD:PUBLISH
X-ORIGINAL-URL:https://www.cancersd.com
X-WR-CALDESC:Events for Cancer SD
REFRESH-INTERVAL;VALUE=DURATION:PT1H
X-Robots-Tag:noindex
X-PUBLISHED-TTL:PT1H
BEGIN:VTIMEZONE
TZID:America/Chicago
BEGIN:DAYLIGHT
TZOFFSETFROM:-0600
TZOFFSETTO:-0500
TZNAME:CDT
DTSTART:20200308T080000
END:DAYLIGHT
BEGIN:STANDARD
TZOFFSETFROM:-0500
TZOFFSETTO:-0600
TZNAME:CST
DTSTART:20201101T070000
END:STANDARD
BEGIN:DAYLIGHT
TZOFFSETFROM:-0600
TZOFFSETTO:-0500
TZNAME:CDT
DTSTART:20210314T080000
END:DAYLIGHT
BEGIN:STANDARD
TZOFFSETFROM:-0500
TZOFFSETTO:-0600
TZNAME:CST
DTSTART:20211107T070000
END:STANDARD
BEGIN:DAYLIGHT
TZOFFSETFROM:-0600
TZOFFSETTO:-0500
TZNAME:CDT
DTSTART:20220313T080000
END:DAYLIGHT
BEGIN:STANDARD
TZOFFSETFROM:-0500
TZOFFSETTO:-0600
TZNAME:CST
DTSTART:20221106T070000
END:STANDARD
END:VTIMEZONE
BEGIN:VEVENT
DTSTART;TZID=America/Chicago:20210324T120000
DTEND;TZID=America/Chicago:20210324T130000
DTSTAMP:20260421T102748
CREATED:20210315T135542Z
LAST-MODIFIED:20210315T135542Z
UID:1435-1616587200-1616590800@www.cancersd.com
SUMMARY:Let's Talk About Colon Cancer Screening
DESCRIPTION:Colorectal cancer is the second leading cause of cancer death in the U.S. among men and women combined. Yet\, with proper screening\, it can be prevented or detected at an early stage. Regular screening and early detection can save lives. During this free virtual event\, you will learn about colorectal cancer prevention and screening options. \nParticipants who are eligible can have a free at-home colorectal cancer screening kit mailed to them. Registration is required\, register at Avera.org/events.
URL:https://www.cancersd.com/event/lets-talk-about-colon-cancer-screening/
END:VEVENT
END:VCALENDAR