BEGIN:VCALENDAR
VERSION:2.0
PRODID:-//Cancer SD - ECPv6.15.20//NONSGML v1.0//EN
CALSCALE:GREGORIAN
METHOD:PUBLISH
X-ORIGINAL-URL:https://www.cancersd.com
X-WR-CALDESC:Events for Cancer SD
REFRESH-INTERVAL;VALUE=DURATION:PT1H
X-Robots-Tag:noindex
X-PUBLISHED-TTL:PT1H
BEGIN:VTIMEZONE
TZID:America/Chicago
BEGIN:DAYLIGHT
TZOFFSETFROM:-0600
TZOFFSETTO:-0500
TZNAME:CDT
DTSTART:20200308T080000
END:DAYLIGHT
BEGIN:STANDARD
TZOFFSETFROM:-0500
TZOFFSETTO:-0600
TZNAME:CST
DTSTART:20201101T070000
END:STANDARD
BEGIN:DAYLIGHT
TZOFFSETFROM:-0600
TZOFFSETTO:-0500
TZNAME:CDT
DTSTART:20210314T080000
END:DAYLIGHT
BEGIN:STANDARD
TZOFFSETFROM:-0500
TZOFFSETTO:-0600
TZNAME:CST
DTSTART:20211107T070000
END:STANDARD
BEGIN:DAYLIGHT
TZOFFSETFROM:-0600
TZOFFSETTO:-0500
TZNAME:CDT
DTSTART:20220313T080000
END:DAYLIGHT
BEGIN:STANDARD
TZOFFSETFROM:-0500
TZOFFSETTO:-0600
TZNAME:CST
DTSTART:20221106T070000
END:STANDARD
END:VTIMEZONE
BEGIN:VEVENT
DTSTART;TZID=America/Chicago:20210414T120000
DTEND;TZID=America/Chicago:20210414T130000
DTSTAMP:20260421T085406
CREATED:20210409T151456Z
LAST-MODIFIED:20210409T151456Z
UID:1460-1618401600-1618405200@www.cancersd.com
SUMMARY:Preventing Cancer Through the HPV Vaccine: Knowledge & Interventions for Success
DESCRIPTION:REGISTER FOR THIS WEBINAR \nThrough this webinar\, participants will: \n\nUnderstand the American Cancer Society’s 2020 HPV Vaccination Guidelines and rationale for changes.\nLearn about evidence-based interventions for increasing HPV vaccination.\nIdentify strategies for increasing HPV vaccination during back to school season.\n\nIntended Audiences:  \nPhysicians\, Nurse Practitioners\, PA’s\, Nurses\, Quality Improvement\, Health Systems Leadership\, Communications & Marketing \nSpeakers:  \n\nDebbie Saslow\, PhD\, Managing Director for HPV and GYN Cancers at the American Cancer Society.\nMarcie Fisher-Borne\, PhD\, MSW\, MPH\, Managing Director of the Interventions & Implementation Team at the American Cancer Society.
URL:https://www.cancersd.com/event/preventing-cancer-through-the-hpv-vaccine-knowledge-interventions-for-success/
END:VEVENT
END:VCALENDAR