BEGIN:VCALENDAR
VERSION:2.0
PRODID:-//Cancer SD - ECPv6.15.20//NONSGML v1.0//EN
CALSCALE:GREGORIAN
METHOD:PUBLISH
X-WR-CALNAME:Cancer SD
X-ORIGINAL-URL:https://www.cancersd.com
X-WR-CALDESC:Events for Cancer SD
REFRESH-INTERVAL;VALUE=DURATION:PT1H
X-Robots-Tag:noindex
X-PUBLISHED-TTL:PT1H
BEGIN:VTIMEZONE
TZID:America/Chicago
BEGIN:DAYLIGHT
TZOFFSETFROM:-0600
TZOFFSETTO:-0500
TZNAME:CDT
DTSTART:20200308T080000
END:DAYLIGHT
BEGIN:STANDARD
TZOFFSETFROM:-0500
TZOFFSETTO:-0600
TZNAME:CST
DTSTART:20201101T070000
END:STANDARD
BEGIN:DAYLIGHT
TZOFFSETFROM:-0600
TZOFFSETTO:-0500
TZNAME:CDT
DTSTART:20210314T080000
END:DAYLIGHT
BEGIN:STANDARD
TZOFFSETFROM:-0500
TZOFFSETTO:-0600
TZNAME:CST
DTSTART:20211107T070000
END:STANDARD
BEGIN:DAYLIGHT
TZOFFSETFROM:-0600
TZOFFSETTO:-0500
TZNAME:CDT
DTSTART:20220313T080000
END:DAYLIGHT
BEGIN:STANDARD
TZOFFSETFROM:-0500
TZOFFSETTO:-0600
TZNAME:CST
DTSTART:20221106T070000
END:STANDARD
END:VTIMEZONE
BEGIN:VEVENT
DTSTART;TZID=America/Chicago:20210602T121500
DTEND;TZID=America/Chicago:20210602T130000
DTSTAMP:20260421T053041
CREATED:20210512T175127Z
LAST-MODIFIED:20210512T175828Z
UID:1472-1622636100-1622638800@www.cancersd.com
SUMMARY:HPV and Oropharyngeal Cancers
DESCRIPTION:HPV is associated with six different cancers. Cancers in the back of the throat (oropharynx) traditionally have been caused by tobacco and alcohol\, but recent studies show that 70% of cancers of the oropharynx may be linked to HPV. \nKathryn M. Van Abel\, M.D. will talk about the increase in HPV associated head and neck cancers and the most effective ways to treat them. \nReserve your spot at https://zoom.us/meeting/register/tJMtdeusrD0qHNO66q6zoOlls4i-A5In-vDt \nAfter registering\, you will receive a confirmation email containing information about joining the meeting.
URL:https://www.cancersd.com/event/hpv-and-oropharyngeal-cancers/
END:VEVENT
END:VCALENDAR