BEGIN:VCALENDAR
VERSION:2.0
PRODID:-//Cancer SD - ECPv6.15.20//NONSGML v1.0//EN
CALSCALE:GREGORIAN
METHOD:PUBLISH
X-ORIGINAL-URL:https://www.cancersd.com
X-WR-CALDESC:Events for Cancer SD
REFRESH-INTERVAL;VALUE=DURATION:PT1H
X-Robots-Tag:noindex
X-PUBLISHED-TTL:PT1H
BEGIN:VTIMEZONE
TZID:America/Chicago
BEGIN:DAYLIGHT
TZOFFSETFROM:-0600
TZOFFSETTO:-0500
TZNAME:CDT
DTSTART:20200308T080000
END:DAYLIGHT
BEGIN:STANDARD
TZOFFSETFROM:-0500
TZOFFSETTO:-0600
TZNAME:CST
DTSTART:20201101T070000
END:STANDARD
BEGIN:DAYLIGHT
TZOFFSETFROM:-0600
TZOFFSETTO:-0500
TZNAME:CDT
DTSTART:20210314T080000
END:DAYLIGHT
BEGIN:STANDARD
TZOFFSETFROM:-0500
TZOFFSETTO:-0600
TZNAME:CST
DTSTART:20211107T070000
END:STANDARD
BEGIN:DAYLIGHT
TZOFFSETFROM:-0600
TZOFFSETTO:-0500
TZNAME:CDT
DTSTART:20220313T080000
END:DAYLIGHT
BEGIN:STANDARD
TZOFFSETFROM:-0500
TZOFFSETTO:-0600
TZNAME:CST
DTSTART:20221106T070000
END:STANDARD
END:VTIMEZONE
BEGIN:VEVENT
DTSTART;TZID=America/Chicago:20211110T120000
DTEND;TZID=America/Chicago:20211110T130000
DTSTAMP:20260420T201311
CREATED:20211014T141615Z
LAST-MODIFIED:20211014T141615Z
UID:1533-1636545600-1636549200@www.cancersd.com
SUMMARY:Take a Bite Out of Cancer: Holiday Edition
DESCRIPTION:Join Registered Dietitian Kat Thomsen as she prepares delicious recipes while chatting about the role of nutrition in reducing your cancer risk. This free event is designed for cancer survivors as well as anyone interested in eating healthier. A short Q&A will follow the cooking demonstration. https://www.avera.org/app/calendar/event/detail.aspx?eventId=6f744a38-7a27-ec11-a84a-000d3a611c21
URL:https://www.cancersd.com/event/take-a-bite-out-of-cancer-holiday-edition/
END:VEVENT
END:VCALENDAR