BEGIN:VCALENDAR
VERSION:2.0
PRODID:-//Cancer SD - ECPv6.15.20//NONSGML v1.0//EN
CALSCALE:GREGORIAN
METHOD:PUBLISH
X-WR-CALNAME:Cancer SD
X-ORIGINAL-URL:https://www.cancersd.com
X-WR-CALDESC:Events for Cancer SD
REFRESH-INTERVAL;VALUE=DURATION:PT1H
X-Robots-Tag:noindex
X-PUBLISHED-TTL:PT1H
BEGIN:VTIMEZONE
TZID:UTC
BEGIN:STANDARD
TZOFFSETFROM:+0000
TZOFFSETTO:+0000
TZNAME:UTC
DTSTART:20160101T000000
END:STANDARD
END:VTIMEZONE
BEGIN:VTIMEZONE
TZID:America/Chicago
BEGIN:DAYLIGHT
TZOFFSETFROM:-0600
TZOFFSETTO:-0500
TZNAME:CDT
DTSTART:20160313T080000
END:DAYLIGHT
BEGIN:STANDARD
TZOFFSETFROM:-0500
TZOFFSETTO:-0600
TZNAME:CST
DTSTART:20161106T070000
END:STANDARD
BEGIN:DAYLIGHT
TZOFFSETFROM:-0600
TZOFFSETTO:-0500
TZNAME:CDT
DTSTART:20170312T080000
END:DAYLIGHT
BEGIN:STANDARD
TZOFFSETFROM:-0500
TZOFFSETTO:-0600
TZNAME:CST
DTSTART:20171105T070000
END:STANDARD
BEGIN:DAYLIGHT
TZOFFSETFROM:-0600
TZOFFSETTO:-0500
TZNAME:CDT
DTSTART:20180311T080000
END:DAYLIGHT
BEGIN:STANDARD
TZOFFSETFROM:-0500
TZOFFSETTO:-0600
TZNAME:CST
DTSTART:20181104T070000
END:STANDARD
END:VTIMEZONE
BEGIN:VEVENT
DTSTART;VALUE=DATE:20170717
DTEND;VALUE=DATE:20170720
DTSTAMP:20260424T134530
CREATED:20170228T034040Z
LAST-MODIFIED:20170228T034040Z
UID:302-1500249600-1500508799@www.cancersd.com
SUMMARY:Public Health Conference
DESCRIPTION:
URL:https://www.cancersd.com/event/public-health-conference/
END:VEVENT
BEGIN:VEVENT
DTSTART;TZID=UTC:20170719T120000
DTEND;TZID=UTC:20170719T130000
DTSTAMP:20260424T134530
CREATED:20170308T213905Z
LAST-MODIFIED:20170308T214131Z
UID:310-1500465600-1500469200@www.cancersd.com
SUMMARY:Addressing the Cancer Burden in the LGBT Community Webinar
DESCRIPTION:The More You Know..Cancer Webinar Series – Iowa Academy of Family Physicians \nThe Iowa Academy of Family Physicians is pleased to bring you this series in partnership with the American Cancer Society and supported in part by the Iowa Cancer Consortium and the Iowa Department of Public Health. The webinar is free to attend. To view more details or to register\, visit www.iaafp.org/cancer. \nPresenter: Richard Wender\, MD\, American Cancer Society\, Chief Cancer Control Officer \n\n\n\n\n\n\n\nDiscuss the unique cancer risks faced by the LGBT population.\nDescribe cancer screening guidelines for this population.\nOutline resources for educating oneself on serving this population.
URL:https://www.cancersd.com/event/addressing-the-cancer-burden-in-the-lgbt-community/
END:VEVENT
BEGIN:VEVENT
DTSTART;TZID=UTC:20170720T120000
DTEND;TZID=UTC:20170720T130000
DTSTAMP:20260424T134530
CREATED:20170614T183529Z
LAST-MODIFIED:20170614T183529Z
UID:389-1500552000-1500555600@www.cancersd.com
SUMMARY:Team-Based FluFIT/iFOBT Implementation Webinar
DESCRIPTION:
URL:https://www.cancersd.com/event/team-based-flufitifobt-implementation-webinar/
END:VEVENT
BEGIN:VEVENT
DTSTART;TZID=America/Chicago:20170725T183000
DTEND;TZID=America/Chicago:20170725T210000
DTSTAMP:20260424T134530
CREATED:20170522T223711Z
LAST-MODIFIED:20170522T223804Z
UID:380-1501007400-1501016400@www.cancersd.com
SUMMARY:Chronic Disease Partners Meeting Pre-Conference
DESCRIPTION:For more information\, visit our website!
URL:https://www.cancersd.com/event/chronic-disease-partners-meeting-pre-conference/
END:VEVENT
BEGIN:VEVENT
DTSTART;TZID=America/Chicago:20170726T100000
DTEND;TZID=America/Chicago:20170726T163000
DTSTAMP:20260424T134530
CREATED:20170228T034138Z
LAST-MODIFIED:20170522T223519Z
UID:303-1501063200-1501086600@www.cancersd.com
SUMMARY:Chronic Disease Partners Meeting
DESCRIPTION:You are invited to attend the 2017 Chronic Disease Partners Meeting hosted by the South Dakota Department of Health’s Office of Chronic Disease Prevention & Health Promotion. This meeting offers the opportunity to learn about sustainable\, effective linkages between clinical and community settings to improve access to preventive and chronic care services. Presentations will focus on community organizations\, public health organizations and clinical providers making linkages and developing partnerships. Speakers include both local and national experts. \nPre-conference sessions will be held on July 25th from 6:30 – 9:00 p.m. \nIf you have any questions about the event or how to register\, contact Brooke Lusk at blusk@tie.net or (605) 224-6287 ext 1536.  A block of rooms for “Chronic Disease Partners” has been reserved at the Hampton Inn\, Comfort Inn and Suites and Kelly Inn in Mitchell. For more information\, visit our website!
URL:https://www.cancersd.com/event/chronic-disease-partners-meeting/
LOCATION:Highland Conference Center\, 2000 Highland Way\, Mitchell\, SD\, 57301\, United States
END:VEVENT
END:VCALENDAR