BEGIN:VCALENDAR
VERSION:2.0
PRODID:-//Cancer SD - ECPv6.15.20//NONSGML v1.0//EN
CALSCALE:GREGORIAN
METHOD:PUBLISH
X-ORIGINAL-URL:https://www.cancersd.com
X-WR-CALDESC:Events for Cancer SD
REFRESH-INTERVAL;VALUE=DURATION:PT1H
X-Robots-Tag:noindex
X-PUBLISHED-TTL:PT1H
BEGIN:VTIMEZONE
TZID:UTC
BEGIN:STANDARD
TZOFFSETFROM:+0000
TZOFFSETTO:+0000
TZNAME:UTC
DTSTART:20160101T000000
END:STANDARD
END:VTIMEZONE
BEGIN:VTIMEZONE
TZID:America/New_York
BEGIN:DAYLIGHT
TZOFFSETFROM:-0500
TZOFFSETTO:-0400
TZNAME:EDT
DTSTART:20160313T070000
END:DAYLIGHT
BEGIN:STANDARD
TZOFFSETFROM:-0400
TZOFFSETTO:-0500
TZNAME:EST
DTSTART:20161106T060000
END:STANDARD
BEGIN:DAYLIGHT
TZOFFSETFROM:-0500
TZOFFSETTO:-0400
TZNAME:EDT
DTSTART:20170312T070000
END:DAYLIGHT
BEGIN:STANDARD
TZOFFSETFROM:-0400
TZOFFSETTO:-0500
TZNAME:EST
DTSTART:20171105T060000
END:STANDARD
BEGIN:DAYLIGHT
TZOFFSETFROM:-0500
TZOFFSETTO:-0400
TZNAME:EDT
DTSTART:20180311T070000
END:DAYLIGHT
BEGIN:STANDARD
TZOFFSETFROM:-0400
TZOFFSETTO:-0500
TZNAME:EST
DTSTART:20181104T060000
END:STANDARD
END:VTIMEZONE
BEGIN:VEVENT
DTSTART;TZID=UTC:20170803T080000
DTEND;TZID=UTC:20170803T090000
DTSTAMP:20260424T121326
CREATED:20170720T184201Z
LAST-MODIFIED:20170720T184201Z
UID:408-1501747200-1501750800@www.cancersd.com
SUMMARY:Pediatric Grand Rounds: Preventing Cancer Shot by Shot! Clinic Interventions to Improve HPV Vaccination Rates
DESCRIPTION:PRESENTED BY: Robert Jacobson\, MD\, FAAP \nTARGET AUDIENCE: Local and regional physicians\, Advanced Practice Providers\, and RNs \nPURPOSE: Upon completion of the activity\, the learner will have increased knowledge and clinical application of current standards of care for pediatric conditions identified as evolving and for emerging conditions. \nOBJECTIVES: \n\nDemonstrate the announcement (presumptive language) approach to recommending the HPV vaccine as opposed to the discussion (shared decision making) approach\nDescribe the C.A.S.E. approach to parental and teen hesitancy\nList and describe a number of proven initiatives a practice should adopt clinic wide to boost HPV vaccination rates\n\nPRE-REGISTRATION \nPre-registration is no longer required for each event. If you wish to pre-register you may continue to do so at www.sanfordhealth.org/classes-and-events/courses/pediatric-grand-rounds. \nView Flyer for Additional Details
URL:https://www.cancersd.com/event/pediatric-grand-rounds-preventing-cancer-shot-by-shot-clinic-interventions-to-improve-hpv-vaccination-rates/
LOCATION:Sanford Health Schroeder Auditorium
END:VEVENT
BEGIN:VEVENT
DTSTART;TZID=UTC:20170803T130000
DTEND;TZID=UTC:20170803T140000
DTSTAMP:20260424T121326
CREATED:20170614T183717Z
LAST-MODIFIED:20170614T183717Z
UID:391-1501765200-1501768800@www.cancersd.com
SUMMARY:Navigating Through FluFIT/iFOBT Webinar
DESCRIPTION:
URL:https://www.cancersd.com/event/navigating-through-flufitifobt-webinar/
END:VEVENT
BEGIN:VEVENT
DTSTART;TZID=America/New_York:20170804T080000
DTEND;TZID=America/New_York:20170804T160000
DTSTAMP:20260424T121326
CREATED:20170228T213500Z
LAST-MODIFIED:20170614T183818Z
UID:304-1501833600-1501862400@www.cancersd.com
SUMMARY:Immunize SD Conference
DESCRIPTION:Register today! \n\n\n\n\n\n \n\n\n\n\n\n\n            Click here for the full agenda! \n\n\n\n\n\n 
URL:https://www.cancersd.com/event/immunize-sd/
LOCATION:Holiday Inn City Centre\, 100 W 8th Street\, Sioux Falls\, SD
END:VEVENT
BEGIN:VEVENT
DTSTART;TZID=America/New_York:20170824T150000
DTEND;TZID=America/New_York:20170824T160000
DTSTAMP:20260424T121326
CREATED:20170812T001726Z
LAST-MODIFIED:20170812T001800Z
UID:424-1503586800-1503590400@www.cancersd.com
SUMMARY:HPV Quality Improvement: Small-Scale Efforts for Practice Transformation
DESCRIPTION:A Step-by-Step Guide to Improve Your HPV Vaccination Rates \nRegister Now! \nContinuing education credits are pending  \nFaculty \nAlix Casler\, M.D.\, F.A.A.P. Chief of Pediatrics\, Medical Director of Pediatrics Orlando Health Physician Associates \nTarget Audience \nThis activity has been designed to meet the educational needs of health professionals who provide and/or promote immunizations including physicians\, physician assistants and registered nurses. \nEducational Objectives \nThis training will: \n\nDefine specific goals for adolescent vaccination rates based upon accurate data mining and reporting whithin your organization.\nUtilize implementation science concepts to select specific\, relevant strategies to apply to your organization in a deliberate\, sustainable intervention.\nImprove your addressing of adolescent vaccines with patients and parents utilizing processes\, tools and scripting.\n\nFor more information\, email info@ntc.nationalahec.org.
URL:https://www.cancersd.com/event/hpv-quality-improvement-small-scale-efforts-for-practice-transformation/
END:VEVENT
END:VCALENDAR