BEGIN:VCALENDAR
VERSION:2.0
PRODID:-//Cancer SD - ECPv6.15.20//NONSGML v1.0//EN
CALSCALE:GREGORIAN
METHOD:PUBLISH
X-WR-CALNAME:Cancer SD
X-ORIGINAL-URL:https://www.cancersd.com
X-WR-CALDESC:Events for Cancer SD
REFRESH-INTERVAL;VALUE=DURATION:PT1H
X-Robots-Tag:noindex
X-PUBLISHED-TTL:PT1H
BEGIN:VTIMEZONE
TZID:America/Chicago
BEGIN:DAYLIGHT
TZOFFSETFROM:-0600
TZOFFSETTO:-0500
TZNAME:CDT
DTSTART:20160313T080000
END:DAYLIGHT
BEGIN:STANDARD
TZOFFSETFROM:-0500
TZOFFSETTO:-0600
TZNAME:CST
DTSTART:20161106T070000
END:STANDARD
BEGIN:DAYLIGHT
TZOFFSETFROM:-0600
TZOFFSETTO:-0500
TZNAME:CDT
DTSTART:20170312T080000
END:DAYLIGHT
BEGIN:STANDARD
TZOFFSETFROM:-0500
TZOFFSETTO:-0600
TZNAME:CST
DTSTART:20171105T070000
END:STANDARD
BEGIN:DAYLIGHT
TZOFFSETFROM:-0600
TZOFFSETTO:-0500
TZNAME:CDT
DTSTART:20180311T080000
END:DAYLIGHT
BEGIN:STANDARD
TZOFFSETFROM:-0500
TZOFFSETTO:-0600
TZNAME:CST
DTSTART:20181104T070000
END:STANDARD
END:VTIMEZONE
BEGIN:VTIMEZONE
TZID:UTC
BEGIN:STANDARD
TZOFFSETFROM:+0000
TZOFFSETTO:+0000
TZNAME:UTC
DTSTART:20160101T000000
END:STANDARD
END:VTIMEZONE
BEGIN:VTIMEZONE
TZID:America/New_York
BEGIN:DAYLIGHT
TZOFFSETFROM:-0500
TZOFFSETTO:-0400
TZNAME:EDT
DTSTART:20160313T070000
END:DAYLIGHT
BEGIN:STANDARD
TZOFFSETFROM:-0400
TZOFFSETTO:-0500
TZNAME:EST
DTSTART:20161106T060000
END:STANDARD
BEGIN:DAYLIGHT
TZOFFSETFROM:-0500
TZOFFSETTO:-0400
TZNAME:EDT
DTSTART:20170312T070000
END:DAYLIGHT
BEGIN:STANDARD
TZOFFSETFROM:-0400
TZOFFSETTO:-0500
TZNAME:EST
DTSTART:20171105T060000
END:STANDARD
BEGIN:DAYLIGHT
TZOFFSETFROM:-0500
TZOFFSETTO:-0400
TZNAME:EDT
DTSTART:20180311T070000
END:DAYLIGHT
BEGIN:STANDARD
TZOFFSETFROM:-0400
TZOFFSETTO:-0500
TZNAME:EST
DTSTART:20181104T060000
END:STANDARD
END:VTIMEZONE
BEGIN:VEVENT
DTSTART;TZID=America/Chicago:20171002T080000
DTEND;TZID=America/Chicago:20171002T153000
DTSTAMP:20260424T091549
CREATED:20170905T191540Z
LAST-MODIFIED:20170905T191540Z
UID:431-1506931200-1506958200@www.cancersd.com
SUMMARY:Fall 2017 WorkWell Partnership Summit
DESCRIPTION:The 2017 WorkWell Summit is a day long event to enhance health and wellness in the workplace. Speakers will include both local and national experts. \nRegister Now! \nAgenda \n\n\n\n\nLearn how to encourage sustainable behavior change\, personal well-being\, and how to overcome barriers. \nThis summit will offer education\, resources\, and tools for creating and engaging wellness in the workplace. Highlights include: \n\nCreating sustainable behavior change to improve health and well-being.\nInteractive sessions on prioritizing your own health and wellness on a personal and individual level.\nPhysical activity take a ways.\n\nWho should attend: \n\nHuman resource professionals\nMembers of a worksite health promotion committee\nHealth benefits managers\nHealth education staff\nOccupational nurses\nMedical directors\nHealth promotion coordinators\nBuilding facilities managers\n\nContact Enid Weiss for more information: \nWorkplace Wellness Coordinator\n818 South Broadway\, Suite 110\nWatertown\, SD 57201\n(605) 878-0314\neweiss@midconetwork.com
URL:https://www.cancersd.com/event/fall-2017-workwell-partnership-summit/
LOCATION:Highland Conference Center\, 2000 Highland Way\, Mitchell\, SD\, 57301\, United States
END:VEVENT
BEGIN:VEVENT
DTSTART;VALUE=DATE:20171004
DTEND;VALUE=DATE:20171006
DTSTAMP:20260424T091549
CREATED:20170428T232238Z
LAST-MODIFIED:20170428T233940Z
UID:352-1507075200-1507247999@www.cancersd.com
SUMMARY:Better Choices\, Better Health Network Conference
DESCRIPTION:We are excited to share this Save the Date for the upcoming 2nd  Annual Better Choices\, Better Health Network Conference October 4-5. 2017 in Rapid City. The conference promises to be an exciting and engaging event\, featuring Dr. Kate Lorig\, founder of Stanford University’s Chronic Disease Self-Management program\, as the featured speaker! \nOnline registration will open May 1. The conference is open to the public\, so early registration is suggested as there are a limited number of event tickets available. Please share with your contacts\, colleagues\, friends\, and neighbors\, and make plans now to attend!
URL:https://www.cancersd.com/event/better-choices-better-health-network-conference/
END:VEVENT
BEGIN:VEVENT
DTSTART;TZID=America/Chicago:20171004T070000
DTEND;TZID=America/Chicago:20171004T080000
DTSTAMP:20260424T091549
CREATED:20170907T215135Z
LAST-MODIFIED:20170907T215135Z
UID:434-1507100400-1507104000@www.cancersd.com
SUMMARY:Improving Colorectal Cancer Screening Rates Through Systems Change
DESCRIPTION:Date & Location\nWednesday\, October 4\, 2017 7:00 AM – 8:00 AM   Sr. Colman Room\, Sioux Falls\, SD \nSpecialties\nOther \nOverview\nAvera and American Cancer Society present this specially designed course to look at the implementation of strategies to improve the prevention and early detection of colon cancer and to reduce cancer disparities. \nTarget Audience: Physicians\, Nurse Practitioners\, Physician Assistants\, Nurses and Healthcare Professionals whose work addresses cancer screening \nObjectives\n\nIdentify evidence-based interventions\, including systems changes for improving cancer screening rates.\nDescribe existing tools and resources designed to help increase cancer screening rates.\nReview current cancer screening guidelines\, including evidence-based testing options.\nRecognize the National 80% by 2018 Initiative.\n\nRegistration\nThere is no registration fee. \nAvailable via live presentation:\nSister Colman Room\, Prairie Center\, Avera McKennan Campus.\nFREE BREAKFAST! \nOr \nAvailable via videoconference:\nPlease contact your videoconferencing site coordinator 48 hours prior to the event. \nOr \nAvailable via Web-Ex: \nWeb-Ex details will be emailed to registrants closer to the educational activity. \nAccreditation\nAvera is accredited by the Accreditation Council for Continuing Medical Education to provide continuing education for physicians. Application has been made for continuing medical education. \nAvera Health is an Approved Provider of continuing nursing education by the Alabama State Nurses Association\, an accredited approver by the American Nurses Credentialing Center’s Commission on Accreditation. Application has been made for continuing nursing education.
URL:https://www.cancersd.com/event/improving-colorectal-cancer-screening-rates-through-systems-change/
LOCATION:Avera Prairie Center\, 1000 E 23rd Street\, Sioux Falls\, 57105\, United States
END:VEVENT
BEGIN:VEVENT
DTSTART;TZID=UTC:20171004T113000
DTEND;TZID=UTC:20171004T130000
DTSTAMP:20260424T091549
CREATED:20170920T174955Z
LAST-MODIFIED:20170920T174955Z
UID:436-1507116600-1507122000@www.cancersd.com
SUMMARY:ACS CAN Annual Research Luncheon - Investing in the Cancer Moonshot
DESCRIPTION:WEDNESDAY\, OCTOBER 4\, 2017  \nHOLIDAY INN CITY CENTRE\, SIOUX FALLS \n11:30 AM-1:00 PM \n$10 ADVANCE; $20 AT DOOR \nThe 2017 event will include a panel discussion on the future of the cancer moonshot in South Dakota \nand the current innovative work being done in the region. You will hear from leading experts \nwho will highlight the accomplishments and strides of South Dakota researchers and explore \nwhat investing in cancer research and preventive screenings could mean for the future of cancer care. \nView the Promotional Flyer \n  \nPRESENTING SPONSORS: AVERA AND SANFORD HEALTH \nTickets available now at www.acscan.org/sdlunch  \nFor more information\, contact Carmyn Egge at 605-323-3550 or carmyn.egge@cancer.org \n  \n 
URL:https://www.cancersd.com/event/acs-can-annual-research-luncheon-investing-in-the-cancer-moonshot/
LOCATION:Holiday Inn City Centre\, 100 W 8th Street\, Sioux Falls\, SD
END:VEVENT
BEGIN:VEVENT
DTSTART;TZID=America/Chicago:20171012T090000
DTEND;TZID=America/Chicago:20171012T163000
DTSTAMP:20260424T091549
CREATED:20170928T220143Z
LAST-MODIFIED:20170928T220143Z
UID:455-1507798800-1507825800@www.cancersd.com
SUMMARY:4th Annual South Dakota Health Link Fall Forum
DESCRIPTION:What’s It All About? \nJoin your peers for a day of discussion\, learning and networking. Learn how you can leverage Health Link to meet financial\, data\, and clinical needs. \nWho Should Attend? \nProviders\, specialists\, CIOs\, IT professionals\, meaningful use coordinators\, non SDHL members and others. \nNot an SDHL Member? \nWe welcome you to join us to learn more about Health Link and membership benefits. \nHow Do I Register? \nwww.sdhealthlink.org/aff \nREGISTRATION IS FREE FOR SDHL MEMBERS!
URL:https://www.cancersd.com/event/4th-annual-south-dakota-health-link-fall-forum/
LOCATION:Holiday Inn City Centre\, 100 W 8th Street\, Sioux Falls\, SD
END:VEVENT
BEGIN:VEVENT
DTSTART;TZID=UTC:20171019T120000
DTEND;TZID=UTC:20171019T130000
DTSTAMP:20260424T091549
CREATED:20171011T201054Z
LAST-MODIFIED:20171011T201124Z
UID:486-1508414400-1508418000@www.cancersd.com
SUMMARY:What's your HPV IQ? A Conversation About Immunization Quality Improvement Tools
DESCRIPTION:Thursday\, October 19\, 2017\n12:00 pm – 1:00 pm Central \n The VICNetwork is excited to bring you the Adolescent Immunization Webinar Series.  \nWe welcome you to join Dr. Sharon Humiston in an engaging conversation with the creators of the newly launched HPV IQ website\, which provides evidence-based tools for HPV vaccine quality improvement. \nLearn More and Register
URL:https://www.cancersd.com/event/whats-your-hpv-iq-a-conversation-about-immunization-quality-improvement-tools/
END:VEVENT
BEGIN:VEVENT
DTSTART;TZID=America/New_York:20171019T120000
DTEND;TZID=America/New_York:20171019T130000
DTSTAMP:20260424T091549
CREATED:20171016T195026Z
LAST-MODIFIED:20171016T195026Z
UID:489-1508414400-1508418000@www.cancersd.com
SUMMARY:What's your HPV IQ? A Conversation About Immunization Quality Improvement Tools
DESCRIPTION:The VICNetwork is excited to bring you the Adolescent Immunization Webinar Series.  \nWe welcome you to join Dr. Sharon Humiston in an engaging conversation with the creators of the newly launched HPV IQ website\, which provides evidence-based tools for HPV vaccine quality improvement. \nRegister Today
URL:https://www.cancersd.com/event/whats-your-hpv-iq-a-conversation-about-immunization-quality-improvement-tools-2/
END:VEVENT
END:VCALENDAR