BEGIN:VCALENDAR
VERSION:2.0
PRODID:-//Cancer SD - ECPv6.15.20//NONSGML v1.0//EN
CALSCALE:GREGORIAN
METHOD:PUBLISH
X-WR-CALNAME:Cancer SD
X-ORIGINAL-URL:https://www.cancersd.com
X-WR-CALDESC:Events for Cancer SD
REFRESH-INTERVAL;VALUE=DURATION:PT1H
X-Robots-Tag:noindex
X-PUBLISHED-TTL:PT1H
BEGIN:VTIMEZONE
TZID:UTC
BEGIN:STANDARD
TZOFFSETFROM:+0000
TZOFFSETTO:+0000
TZNAME:UTC
DTSTART:20170101T000000
END:STANDARD
END:VTIMEZONE
BEGIN:VTIMEZONE
TZID:America/Chicago
BEGIN:DAYLIGHT
TZOFFSETFROM:-0600
TZOFFSETTO:-0500
TZNAME:CDT
DTSTART:20170312T080000
END:DAYLIGHT
BEGIN:STANDARD
TZOFFSETFROM:-0500
TZOFFSETTO:-0600
TZNAME:CST
DTSTART:20171105T070000
END:STANDARD
BEGIN:DAYLIGHT
TZOFFSETFROM:-0600
TZOFFSETTO:-0500
TZNAME:CDT
DTSTART:20180311T080000
END:DAYLIGHT
BEGIN:STANDARD
TZOFFSETFROM:-0500
TZOFFSETTO:-0600
TZNAME:CST
DTSTART:20181104T070000
END:STANDARD
BEGIN:DAYLIGHT
TZOFFSETFROM:-0600
TZOFFSETTO:-0500
TZNAME:CDT
DTSTART:20190310T080000
END:DAYLIGHT
BEGIN:STANDARD
TZOFFSETFROM:-0500
TZOFFSETTO:-0600
TZNAME:CST
DTSTART:20191103T070000
END:STANDARD
END:VTIMEZONE
BEGIN:VEVENT
DTSTART;TZID=UTC:20180109T080000
DTEND;TZID=UTC:20180109T090000
DTSTAMP:20260424T014111
CREATED:20171227T214034Z
LAST-MODIFIED:20171227T214137Z
UID:511-1515484800-1515488400@www.cancersd.com
SUMMARY:Webinar: Incorporating Cancer Survivorship Into Primary Care
DESCRIPTION:  \nPlease join us for a FREE discussion on integrating cancer survivorship care into primary practice\, including: \n\nLearning the goals for enhancing cancer survivorship\nUnderstanding the basics of cancer survivorship care\nAccessing resources available to support cancer survivors in their healthcare journeys.\n\nTuesday\, January 9\, 2018  \n8 am CST (9 am EST) \nClick HERE to register! View the flyer for full details. \n 
URL:https://www.cancersd.com/event/webinar-incorporating-cancer-survivorship-into-primary-care/
END:VEVENT
BEGIN:VEVENT
DTSTART;TZID=America/Chicago:20180110T140000
DTEND;TZID=America/Chicago:20180110T150000
DTSTAMP:20260424T014111
CREATED:20171215T020035Z
LAST-MODIFIED:20180927T212013Z
UID:509-1515592800-1515596400@www.cancersd.com
SUMMARY:Perspectives on Vaccine Hesitancy
DESCRIPTION:National AHEC Organization: HPV Immunization Project\nPerspectives on Vaccine Hesitancy\nDr. Gary S. Marshall\, professor of pediatrics\, chief at the Division of Pediatric Infectious Diseases at the University of Louisville School of Medicine\, will present information about why people accept anecdotal experiences as indicative of causal relationships; how to counteract thought patterns that lead to vaccine refusal; and how to maintain high immunization rates despite pervasive vaccine hesitancy. \nContinuing education credits are pending for this webinar! \nPlease promote to health professionals in your area! Remember that all of the participants from your state count toward your training numbers! Registration link: \nhttp://nao-ntc.adobeconnect.com/perspectivesonvaxhesitancy/event/registration.html?campaign-id=300
URL:https://www.cancersd.com/event/perspectives-on-vaccine-hesitancy/
END:VEVENT
END:VCALENDAR