BEGIN:VCALENDAR
VERSION:2.0
PRODID:-//Cancer SD - ECPv6.15.20//NONSGML v1.0//EN
CALSCALE:GREGORIAN
METHOD:PUBLISH
X-WR-CALNAME:Cancer SD
X-ORIGINAL-URL:https://www.cancersd.com
X-WR-CALDESC:Events for Cancer SD
REFRESH-INTERVAL;VALUE=DURATION:PT1H
X-Robots-Tag:noindex
X-PUBLISHED-TTL:PT1H
BEGIN:VTIMEZONE
TZID:America/Chicago
BEGIN:DAYLIGHT
TZOFFSETFROM:-0600
TZOFFSETTO:-0500
TZNAME:CDT
DTSTART:20170312T080000
END:DAYLIGHT
BEGIN:STANDARD
TZOFFSETFROM:-0500
TZOFFSETTO:-0600
TZNAME:CST
DTSTART:20171105T070000
END:STANDARD
BEGIN:DAYLIGHT
TZOFFSETFROM:-0600
TZOFFSETTO:-0500
TZNAME:CDT
DTSTART:20180311T080000
END:DAYLIGHT
BEGIN:STANDARD
TZOFFSETFROM:-0500
TZOFFSETTO:-0600
TZNAME:CST
DTSTART:20181104T070000
END:STANDARD
BEGIN:DAYLIGHT
TZOFFSETFROM:-0600
TZOFFSETTO:-0500
TZNAME:CDT
DTSTART:20190310T080000
END:DAYLIGHT
BEGIN:STANDARD
TZOFFSETFROM:-0500
TZOFFSETTO:-0600
TZNAME:CST
DTSTART:20191103T070000
END:STANDARD
END:VTIMEZONE
BEGIN:VEVENT
DTSTART;TZID=America/Chicago:20180215T140000
DTEND;TZID=America/Chicago:20180215T150000
DTSTAMP:20260423T235904
CREATED:20180129T232247Z
LAST-MODIFIED:20180927T212435Z
UID:568-1518703200-1518706800@www.cancersd.com
SUMMARY:How HPV Causes Cancer and Why it Still Matters
DESCRIPTION:Register Now! \nContinuing education credits are pending  \nFaculty \nPeter C. Angeletti\, Associate Professor\, University of Nebraska-Lincoln\, Nebraska Center for Virology\, School of Biological Sciences \nTarget Audience \nThis activity has been designed to meet the educational needs of health professionals who provide and/or promote immunizations including physicians\, physician assistants and registered nurses\, as well as health professions students. \nEducational Objectives \nDr. Angeletti will explain the biology of HPV and its infection; including how the virus replicates and how it hides from the immune system. He will then discuss the mechanism by which HPV causes cancer. He will then show evidence of different manifestations of HPV-related dysplasia\, using examples from his research work in Tanzania and Zambia. He will then explain the rationale for adopting an effective public HPV vaccination strategy and provide evidence for efficacy of the current vaccine. \n\nThe biology of HPV and its infection\nHow the virus replicates and hides from the immune system\nHow HPV causes cancer\nEvidence of different manifestations of HPV-related dysplasia\nRationale for adopting an effective HPV vaccination strategy\nEfficacy evidence of the current vaccine\n\n For more information\, email info@ntc.nationalahec.org.
URL:https://www.cancersd.com/event/how-hpv-causes-cancer-and-why-it-still-matters/
END:VEVENT
END:VCALENDAR