BEGIN:VCALENDAR
VERSION:2.0
PRODID:-//Cancer SD - ECPv6.15.20//NONSGML v1.0//EN
CALSCALE:GREGORIAN
METHOD:PUBLISH
X-ORIGINAL-URL:https://www.cancersd.com
X-WR-CALDESC:Events for Cancer SD
REFRESH-INTERVAL;VALUE=DURATION:PT1H
X-Robots-Tag:noindex
X-PUBLISHED-TTL:PT1H
BEGIN:VTIMEZONE
TZID:UTC
BEGIN:STANDARD
TZOFFSETFROM:+0000
TZOFFSETTO:+0000
TZNAME:UTC
DTSTART:20170101T000000
END:STANDARD
END:VTIMEZONE
BEGIN:VEVENT
DTSTART;VALUE=DATE:20180511
DTEND;VALUE=DATE:20180512
DTSTAMP:20260423T185214
CREATED:20170830T002956Z
LAST-MODIFIED:20170830T002956Z
UID:427-1525996800-1526083199@www.cancersd.com
SUMMARY:3rd Annual Breast Cancer Survivor Conference
DESCRIPTION:A daylong event for the remarkable women diagnosed with cancer and their loved ones. Sessions include keynote speakers\, educational and supportive topics\, as well as time for interactive networking. This uplifting conference celebrates the survivor journey.
URL:https://www.cancersd.com/event/3rd-annual-breast-cancer-survivor-conference/
LOCATION:Avera Prairie Center\, 1000 E 23rd Street\, Sioux Falls\, 57105\, United States
END:VEVENT
BEGIN:VEVENT
DTSTART;VALUE=DATE:20180516
DTEND;VALUE=DATE:20180518
DTSTAMP:20260423T185214
CREATED:20180413T235721Z
LAST-MODIFIED:20180413T235838Z
UID:643-1526428800-1526601599@www.cancersd.com
SUMMARY:GPTCHB Cancer Symposium
DESCRIPTION:Register here!
URL:https://www.cancersd.com/event/gptchb-cancer-symposium/
LOCATION:Best Western Ramkota Hotel\, 2111 N. Lacrosse Street\, Rapid City\, SD\, 57701\, United States
END:VEVENT
END:VCALENDAR