BEGIN:VCALENDAR
VERSION:2.0
PRODID:-//Cancer SD - ECPv6.15.20//NONSGML v1.0//EN
CALSCALE:GREGORIAN
METHOD:PUBLISH
X-WR-CALNAME:Cancer SD
X-ORIGINAL-URL:https://www.cancersd.com
X-WR-CALDESC:Events for Cancer SD
REFRESH-INTERVAL;VALUE=DURATION:PT1H
X-Robots-Tag:noindex
X-PUBLISHED-TTL:PT1H
BEGIN:VTIMEZONE
TZID:America/Chicago
BEGIN:DAYLIGHT
TZOFFSETFROM:-0600
TZOFFSETTO:-0500
TZNAME:CDT
DTSTART:20170312T080000
END:DAYLIGHT
BEGIN:STANDARD
TZOFFSETFROM:-0500
TZOFFSETTO:-0600
TZNAME:CST
DTSTART:20171105T070000
END:STANDARD
BEGIN:DAYLIGHT
TZOFFSETFROM:-0600
TZOFFSETTO:-0500
TZNAME:CDT
DTSTART:20180311T080000
END:DAYLIGHT
BEGIN:STANDARD
TZOFFSETFROM:-0500
TZOFFSETTO:-0600
TZNAME:CST
DTSTART:20181104T070000
END:STANDARD
BEGIN:DAYLIGHT
TZOFFSETFROM:-0600
TZOFFSETTO:-0500
TZNAME:CDT
DTSTART:20190310T080000
END:DAYLIGHT
BEGIN:STANDARD
TZOFFSETFROM:-0500
TZOFFSETTO:-0600
TZNAME:CST
DTSTART:20191103T070000
END:STANDARD
END:VTIMEZONE
BEGIN:VEVENT
DTSTART;TZID=America/Chicago:20181101T140000
DTEND;TZID=America/Chicago:20181101T150000
DTSTAMP:20260423T092658
CREATED:20181010T183617Z
LAST-MODIFIED:20181010T183617Z
UID:773-1541080800-1541084400@www.cancersd.com
SUMMARY:Since You Asked: Persuading Parents that HPV Vaccine is Safe and Effective in Practice
DESCRIPTION:Register Now! \n\n\n\nDr. Kristin Oliver (Mount Sinai\, New York) and Dr. Sharon Humiston (Children’s Mercy\, Missouri) will talk about practical approaches to persuading parents that HPV vaccine is safe and effective in a busy clinical setting. These two pediatricians will highlight tools to get your whole office team giving not just strong\, but effective recommendations. \n  \nContinuing education credits are pending  \n  \nFaculty \n\n\n\nKristin Oliver\, MD\, MHS\, Icahn School of Medicine\, Mount Sinai \nSharon G. Humiston\, MD\, MPH\, FAAP\, University of Missouri-Kansas City\n\n\n\n  \n  \nTarget Audience \nThis activity has been designed to meet the educational needs of health professionals who provide and/or promote immunizations including  physicians\, physician assistants\, nurse practitioners\, registered nurses\, as well as health professions students. \n  \n For more information\, email info@ntc.nationalahec.org.
URL:https://www.cancersd.com/event/since-you-asked-persuading-parents-that-hpv-vaccine-is-safe-and-effective-in-practice/
END:VEVENT
END:VCALENDAR