BEGIN:VCALENDAR
VERSION:2.0
PRODID:-//Cancer SD - ECPv6.15.20//NONSGML v1.0//EN
CALSCALE:GREGORIAN
METHOD:PUBLISH
X-ORIGINAL-URL:https://www.cancersd.com
X-WR-CALDESC:Events for Cancer SD
REFRESH-INTERVAL;VALUE=DURATION:PT1H
X-Robots-Tag:noindex
X-PUBLISHED-TTL:PT1H
BEGIN:VTIMEZONE
TZID:America/Chicago
BEGIN:DAYLIGHT
TZOFFSETFROM:-0600
TZOFFSETTO:-0500
TZNAME:CDT
DTSTART:20180311T080000
END:DAYLIGHT
BEGIN:STANDARD
TZOFFSETFROM:-0500
TZOFFSETTO:-0600
TZNAME:CST
DTSTART:20181104T070000
END:STANDARD
BEGIN:DAYLIGHT
TZOFFSETFROM:-0600
TZOFFSETTO:-0500
TZNAME:CDT
DTSTART:20190310T080000
END:DAYLIGHT
BEGIN:STANDARD
TZOFFSETFROM:-0500
TZOFFSETTO:-0600
TZNAME:CST
DTSTART:20191103T070000
END:STANDARD
BEGIN:DAYLIGHT
TZOFFSETFROM:-0600
TZOFFSETTO:-0500
TZNAME:CDT
DTSTART:20200308T080000
END:DAYLIGHT
BEGIN:STANDARD
TZOFFSETFROM:-0500
TZOFFSETTO:-0600
TZNAME:CST
DTSTART:20201101T070000
END:STANDARD
END:VTIMEZONE
BEGIN:VEVENT
DTSTART;TZID=America/Chicago:20190513T120000
DTEND;TZID=America/Chicago:20190513T130000
DTSTAMP:20260422T232524
CREATED:20190507T160557Z
LAST-MODIFIED:20190507T160557Z
UID:890-1557748800-1557752400@www.cancersd.com
SUMMARY:Implementing Distress Screening in Cancer Care
DESCRIPTION:Elizabeth Rohan\, PhD\, MSW from CDC \nMonday\, May 13\, 2019 \n12 PM – 1 PM (CST) \nOncology professionals and organizations around the world have come to realize the diagnosis and treatment of cancer can evoke significant levels of distress for cancer patients and their families. Thus\, psychosocial distress screening is increasingly becoming a first step in identifying those with high needs as a part of quality cancer care and treatment. The goal of screening is to identify those with distress as early as possible and to  intervene quickly.  This presentation will review the basics of distress screening\, highlight some of the realities of implementation in oncology settings based on current research\, and discuss the challenges and opportunities of implementing distress screening in the oncology setting. \nFor more information and online registration click here. \nCME Pending
URL:https://www.cancersd.com/event/implementing-distress-screening-in-cancer-care/
END:VEVENT
BEGIN:VEVENT
DTSTART;TZID=America/Chicago:20190514T120000
DTEND;TZID=America/Chicago:20190514T130000
DTSTAMP:20260422T232524
CREATED:20190409T204035Z
LAST-MODIFIED:20190502T170120Z
UID:871-1557835200-1557838800@www.cancersd.com
SUMMARY:Teamwork is the Key to HPV Vaccination Success
DESCRIPTION:The SD Cancer Coalition and HPV Task Force are pleased to present a webinar opportunity on Tuesday\, May 14 at 12:00 PM CT titled “Teamwork is the Key to HPV Vaccination Success”. Dr. Mary Milroy will be the featured speaker.\n\nLearning Objectives: Understand why HPV vaccination is important\, Identify the types of Human Papilloma Virus and the cancers associated with them\, Identify the appropriate HPV vaccination schedule based on patient age\, Identify reassuring\, confident\, and concise responses to commonly asked parental questions about HPV vaccination\, Understand how teamwork is essential in attaining HPV vaccination success\, and Identify helpful resources to use to improve HPV vaccination rates.\n\nRegister here
URL:https://www.cancersd.com/event/hpv-vaccination-is-cancer-prevention-webinar/
END:VEVENT
BEGIN:VEVENT
DTSTART;VALUE=DATE:20190522
DTEND;VALUE=DATE:20190524
DTSTAMP:20260422T232524
CREATED:20190409T204437Z
LAST-MODIFIED:20190409T204437Z
UID:872-1558483200-1558655999@www.cancersd.com
SUMMARY:Great Plains Partners in Cancer Screening Conference
DESCRIPTION:Register here!
URL:https://www.cancersd.com/event/great-plains-partners-in-cancer-screening-conference/
END:VEVENT
END:VCALENDAR