BEGIN:VCALENDAR
VERSION:2.0
PRODID:-//Cancer SD - ECPv6.15.20//NONSGML v1.0//EN
CALSCALE:GREGORIAN
METHOD:PUBLISH
X-WR-CALNAME:Cancer SD
X-ORIGINAL-URL:https://www.cancersd.com
X-WR-CALDESC:Events for Cancer SD
REFRESH-INTERVAL;VALUE=DURATION:PT1H
X-Robots-Tag:noindex
X-PUBLISHED-TTL:PT1H
BEGIN:VTIMEZONE
TZID:America/Chicago
BEGIN:DAYLIGHT
TZOFFSETFROM:-0600
TZOFFSETTO:-0500
TZNAME:CDT
DTSTART:20200308T080000
END:DAYLIGHT
BEGIN:STANDARD
TZOFFSETFROM:-0500
TZOFFSETTO:-0600
TZNAME:CST
DTSTART:20201101T070000
END:STANDARD
BEGIN:DAYLIGHT
TZOFFSETFROM:-0600
TZOFFSETTO:-0500
TZNAME:CDT
DTSTART:20210314T080000
END:DAYLIGHT
BEGIN:STANDARD
TZOFFSETFROM:-0500
TZOFFSETTO:-0600
TZNAME:CST
DTSTART:20211107T070000
END:STANDARD
BEGIN:DAYLIGHT
TZOFFSETFROM:-0600
TZOFFSETTO:-0500
TZNAME:CDT
DTSTART:20220313T080000
END:DAYLIGHT
BEGIN:STANDARD
TZOFFSETFROM:-0500
TZOFFSETTO:-0600
TZNAME:CST
DTSTART:20221106T070000
END:STANDARD
END:VTIMEZONE
BEGIN:VEVENT
DTSTART;TZID=America/Chicago:20210504T143000
DTEND;TZID=America/Chicago:20210504T153000
DTSTAMP:20260421T053104
CREATED:20210324T200902Z
LAST-MODIFIED:20210324T200902Z
UID:1442-1620138600-1620142200@www.cancersd.com
SUMMARY:Cancer 101: Cancer Prevention - Virtual event
DESCRIPTION:Cancer 101 is an education series whose goal is to help de-mystify cancer. \nThere are a number of factors that increase a person’s risk of developing cancer but there are also ways to reduce risk or prevent cancer in the first place. You will learn about the American Cancer Society’s cancer prevention recommendations and resources to help you implement them.
URL:https://www.cancersd.com/event/cancer-101-cancer-prevention-virtual-event/
END:VEVENT
BEGIN:VEVENT
DTSTART;TZID=America/Chicago:20210511T143000
DTEND;TZID=America/Chicago:20210511T153000
DTSTAMP:20260421T053104
CREATED:20210324T201049Z
LAST-MODIFIED:20210324T201049Z
UID:1445-1620743400-1620747000@www.cancersd.com
SUMMARY:Cancer 101: Cancer Screening - Virtual event
DESCRIPTION:Cancer 101 is an education series whose goal is to help de-mystify cancer. \nIn this one-hour event\, we will learn about different types of cancer screenings and their recommended screening guidelines.
URL:https://www.cancersd.com/event/cancer-101-cancer-screening-virtual-event/
END:VEVENT
BEGIN:VEVENT
DTSTART;TZID=America/Chicago:20210520T121500
DTEND;TZID=America/Chicago:20210520T130000
DTSTAMP:20260421T053104
CREATED:20210512T175031Z
LAST-MODIFIED:20210512T175031Z
UID:1470-1621512900-1621515600@www.cancersd.com
SUMMARY:HPV Vaccination and Oropharyngeal Cancer
DESCRIPTION:HPV-related oropharyngeal cancers are on the rise. 70% of these cancers could be prevented by the HPV vaccine.  \nKendall Tasche\, M.D.\, will cover updated HPV vaccine guidelines for boys and girls with a focus on the role they can play in preventing HPV-related head and neck cancers. \nReserve your spot at https://zoom.us/meeting/register/tJUvce2tqDktE9Bx3yMEWKGb_F5dk_kRXTEJ \nAfter registering\, you will receive a confirmation email containing information about joining the meeting.
URL:https://www.cancersd.com/event/hpv-vaccination-and-oropharyngeal-cancer/
END:VEVENT
BEGIN:VEVENT
DTSTART;TZID=America/Chicago:20210522T103000
DTEND;TZID=America/Chicago:20210522T113000
DTSTAMP:20260421T053104
CREATED:20210512T174830Z
LAST-MODIFIED:20210512T174830Z
UID:1468-1621679400-1621683000@www.cancersd.com
SUMMARY:Let's Walk!
DESCRIPTION:Let’s get moving! Physical activity plays a key role in living a healthy lifestyle. Join us for a brief talk on a healthy topic with an Avera Cancer Institute provider and then take a walk around lovely Lake Lorraine. This event is family-friendly and open to all ages. \nCOVID-19 precautions will be followed to ensure the safety of all participants. \n5/22/2021\nMark Huber\, MD\nAvera Medical Group Oncology & Hematology\nTopic: Colon cancer prevention & screening \nLocation note: We will meet at the northwest access point on Lake Lorraine\, north of the CarsforSale building. You are encouraged to park on Westlake Drive for easy access.
URL:https://www.cancersd.com/event/lets-walk/
END:VEVENT
END:VCALENDAR